BEGIN:VCALENDAR
PRODID:NingEventWidget-v1
VERSION:2.0
METHOD:PUBLISH
BEGIN:VTIMEZONE
TZID:Europe/Paris
X-LIC-LOCATION:Europe/Paris
BEGIN:DAYLIGHT
TZOFFSETFROM:+0100
TZOFFSETTO:+0200
TZNAME:CEST
DTSTART:19700329T020000
RRULE:FREQ=YEARLY;BYMONTH=3;BYDAY=-1SU
END:DAYLIGHT
BEGIN:STANDARD
TZOFFSETFROM:+0200
TZOFFSETTO:+0100
TZNAME:CET
DTSTART:19701025T030000
RRULE:FREQ=YEARLY;BYMONTH=10;BYDAY=-1SU
END:STANDARD
END:VTIMEZONE
BEGIN:VEVENT
UID:2485226:Event:1123181
DTSTAMP:20260421T221521Z
SUMMARY:Soirée danse orientale au Moulin à Café
DESCRIPTION:Venez dîner dans un café associatif du 14ème (plats à 
 5€) et assister à une démonstration de danse orientale par Claudia
  Robledo, suivie d'un cours pour celles (et ceux) qui le veulent...\nS
 oirée gratuite. Inutile de réserver (venez à 20h).\nOrganisé en p
 artenariat avec le Moulin à Café et L'Espace Osada où Claudia Roble
 do donne des cours tous les samedis.\nhttp://www.espaceosada.fr\n\nPou
 r plus d'information, aller sur https://epanews.fr/events/soir-e-orien
 tale-au-moulin-caf
DTSTART;TZID=Europe/Paris:20130125T200000
DTEND;TZID=Europe/Paris:20130125T223000
CATEGORIES:75
LOCATION:Paris 14è
WEBSITE:http://www.moulin-cafe.net/
URL:http://www.moulin-cafe.net/
CONTACT:0140448755
ORGANIZER:Espace Osada
ATTACH;FMTTYPE="image/jpeg":http://storage.ning.com/topology/rest/1.0/
 file/get/1662736921?profile=original
ATTENDEE;ROLE=REQ-PARTICIPANT;PARTSTAT=ACCEPTED;RSVP=TRUE;CN=Max:https
 ://epanews.fr/profile/MaximeRatie
END:VEVENT
END:VCALENDAR
