BEGIN:VCALENDAR
PRODID:NingEventWidget-v1
VERSION:2.0
METHOD:PUBLISH
BEGIN:VTIMEZONE
TZID:Europe/Paris
X-LIC-LOCATION:Europe/Paris
BEGIN:DAYLIGHT
TZOFFSETFROM:+0100
TZOFFSETTO:+0200
TZNAME:CEST
DTSTART:19700329T020000
RRULE:FREQ=YEARLY;BYMONTH=3;BYDAY=-1SU
END:DAYLIGHT
BEGIN:STANDARD
TZOFFSETFROM:+0200
TZOFFSETTO:+0100
TZNAME:CET
DTSTART:19701025T030000
RRULE:FREQ=YEARLY;BYMONTH=10;BYDAY=-1SU
END:STANDARD
END:VTIMEZONE
BEGIN:VEVENT
UID:2485226:Event:2205596
DTSTAMP:20260422T181556Z
SUMMARY:soirée discuion et petit repas
DESCRIPTION:Dans une salle du centre ville\nPetit repas entre amis a p
 artager pour une  \nSoirée conviviale avec la présence de\ndominiqu
 e Jeanneret et alain Saunier \n\nPour plus d'information, aller sur 
 https://epanews.fr/events/soir-e-m-ditation-et-petit-repas
DTSTART;TZID=Europe/Paris:20150402T200000
DTEND;TZID=Europe/Paris:20150402T220000
CATEGORIES:34
LOCATION:Montpellier
WEBSITE:http://omaction.net/description-des-stages/herault-paques2015/
URL:http://omaction.net/description-des-stages/herault-paques2015/
CONTACT:0685159688
ORGANIZER;CN=Alain:https://epanews.fr/profile/AlainSaunier
ATTACH;FMTTYPE="image/jpeg":http://storage.ning.com/topology/rest/1.0/
 file/get/1663316947?profile=original
ATTENDEE;ROLE=REQ-PARTICIPANT;PARTSTAT=ACCEPTED;RSVP=TRUE;CN=Alain:htt
 ps://epanews.fr/profile/AlainSaunier
ATTENDEE;ROLE=REQ-PARTICIPANT;PARTSTAT=TENTATIVE;RSVP=TRUE;CN=colibri7
 :https://epanews.fr/profile/colibri7
END:VEVENT
END:VCALENDAR
