BEGIN:VCALENDAR
PRODID:NingEventWidget-v1
VERSION:2.0
METHOD:PUBLISH
BEGIN:VTIMEZONE
TZID:Europe/Paris
X-LIC-LOCATION:Europe/Paris
BEGIN:DAYLIGHT
TZOFFSETFROM:+0100
TZOFFSETTO:+0200
TZNAME:CEST
DTSTART:19700329T020000
RRULE:FREQ=YEARLY;BYMONTH=3;BYDAY=-1SU
END:DAYLIGHT
BEGIN:STANDARD
TZOFFSETFROM:+0200
TZOFFSETTO:+0100
TZNAME:CET
DTSTART:19701025T030000
RRULE:FREQ=YEARLY;BYMONTH=10;BYDAY=-1SU
END:STANDARD
END:VTIMEZONE
BEGIN:VEVENT
UID:2485226:Event:2141174
DTSTAMP:20260425T125855Z
SUMMARY:SoirÃ©e MÃ©ditation et Mantras
DESCRIPTION:Ces soirÃ©es ont lieu un vendredi par moi dans l'espace bi
 en-Ãªtre \"Le Liber-thÃ©\".\nCâ€™est un espace ouvert Ã  tous :PourÂ a
 border les premiers pas de la mÃ©ditation, de la priÃ¨re et se ressour
 cer dans la joie ou bien encoreÂ pourÂ Ãªtre un support et un approfon
 dissement dâ€™une pratique personnelle .\nDans cet espace sacrÃ© que n
 ous ouvrons, puis refermons, nous serons invitÃ©s Ã  nous centrer et Ã
   nous rapprocher de nous-mÃªme. Â Nous serons accompagnÃ©s par les ch
 ants SacrÃ©s et Mantras de plusieurs traditions. Câ€™est un moment de 
 connexion avec les plus belles Ã©nergies dâ€™Amour, de Joie, de Compas
 sion, de LibÃ©ration Ã  lâ€™intÃ©rieur de nous mÃªme et dans les monde
 s divins.\n\nPour plus d'information, aller sur https://epanews.fr/eve
 nts/soir-e-m-ditation-et-mantras
DTSTART;TZID=Europe/Paris:20141212T201500
DTEND;TZID=Europe/Paris:20141212T220000
CATEGORIES:83
LOCATION:12, Av Jean Moulin Centre Ville Toulon au 6 Ã¨me Etage
WEBSITE:
URL:
CONTACT:
ORGANIZER;CN="Nayana et Jaidev":https://epanews.fr/profile/NayanaetJai
 dev
ATTACH;FMTTYPE="image/jpeg":http://storage.ning.com/topology/rest/1.0/
 file/get/1663269442?profile=original
ATTENDEE;ROLE=REQ-PARTICIPANT;PARTSTAT=ACCEPTED;RSVP=TRUE;CN="Nayana e
 t Jaidev":https://epanews.fr/profile/NayanaetJaidev
END:VEVENT
END:VCALENDAR
