BEGIN:VCALENDAR
PRODID:NingEventWidget-v1
VERSION:2.0
METHOD:PUBLISH
BEGIN:VTIMEZONE
TZID:Europe/Paris
X-LIC-LOCATION:Europe/Paris
BEGIN:DAYLIGHT
TZOFFSETFROM:+0100
TZOFFSETTO:+0200
TZNAME:CEST
DTSTART:19700329T020000
RRULE:FREQ=YEARLY;BYMONTH=3;BYDAY=-1SU
END:DAYLIGHT
BEGIN:STANDARD
TZOFFSETFROM:+0200
TZOFFSETTO:+0100
TZNAME:CET
DTSTART:19701025T030000
RRULE:FREQ=YEARLY;BYMONTH=10;BYDAY=-1SU
END:STANDARD
END:VTIMEZONE
BEGIN:VEVENT
UID:2485226:Event:1418396
DTSTAMP:20260421T120608Z
SUMMARY:Soirée Kundalini Yoga à l'occasion solstice été - Aix-en-P
 rovence
DESCRIPTION:A l'occasion de ce solstice d'été venez expérimenter la
  puissance et la profondeur d'un programme de Kundalini Yoga qui vous 
 ré-alignera avec votre être profond, accompagné de musiques et des 
 sonorités thérapeutiques du Gong, dans un cadre champêtre en Pays d
 'Aix-en-Provence  Vendredi 21 Juin 2013 de 18h30 à 21h30 - cours inte
 nsif de Kundalini Yoga sur le subconscient suivi de 2h de danse  Le le
 ndemain, 22/06, Sadhana* de 5h à 7h30 (vos instruments de musique son
 t les bienvenus)  Possibilité de dormir sur place, dans la yourte ou 
 à la belle étoile ou dans votre tente.  A l'issue de la Sadhana nous
  partagerons un petit déjeuner composé de tout ce que chacun apporte
 ra.  Tout les détails sur les flyers ci-joints.   Merci de réserver 
 soit en répondant à ce mail  soit par tel au 06 23 38 58 55  Dans la
  Paix du Cœur  Siri Kar Singh\n\n* Sadhana : lecture Shabd [25mn] + Y
 oga [1h] + mantras chantés [1h]\n\nPour plus d'information, aller sur
  https://epanews.fr/events/soir-e-kundalini-yoga-l-occasion-solstice-t
 -aix-en-provence
DTSTART;TZID=Europe/Paris:20130621T181500
DTEND;TZID=Europe/Paris:20130621T223000
CATEGORIES:13
LOCATION:Layama
WEBSITE:http://layama.org
URL:http://layama.org
CONTACT:06 23 38 58 55 ou 06 31 23 37 80 (Layama)
ORGANIZER:SiriKar et l'association Layama
ATTACH;FMTTYPE="image/jpeg":http://storage.ning.com/topology/rest/1.0/
 file/get/1662866711?profile=original
ATTENDEE;ROLE=REQ-PARTICIPANT;PARTSTAT=ACCEPTED;RSVP=TRUE;CN=SiriKar:h
 ttps://epanews.fr/profile/SiriKar
END:VEVENT
END:VCALENDAR
