BEGIN:VCALENDAR
PRODID:NingEventWidget-v1
VERSION:2.0
METHOD:PUBLISH
BEGIN:VTIMEZONE
TZID:Europe/Paris
X-LIC-LOCATION:Europe/Paris
BEGIN:DAYLIGHT
TZOFFSETFROM:+0100
TZOFFSETTO:+0200
TZNAME:CEST
DTSTART:19700329T020000
RRULE:FREQ=YEARLY;BYMONTH=3;BYDAY=-1SU
END:DAYLIGHT
BEGIN:STANDARD
TZOFFSETFROM:+0200
TZOFFSETTO:+0100
TZNAME:CET
DTSTART:19701025T030000
RRULE:FREQ=YEARLY;BYMONTH=10;BYDAY=-1SU
END:STANDARD
END:VTIMEZONE
BEGIN:VEVENT
UID:2485226:Event:2145092
DTSTAMP:20260423T113811Z
SUMMARY:SoirÃ©e Extra-Sens: DÃ©veloppez votre Extra-sensorialitÃ©
DESCRIPTION:Extra-Sens : dÃ©veloppez votre Extra-sensorialitÃ© !\nLes 
 SoirÃ©es proposÃ©es sont chaque fois diffÃ©rentes et de nouveaux thÃ¨m
 es/sujets sont abordÃ©s et pratiquÃ©s. \n Lâ€™extra-sensorialitÃ© expl
 ore les sens qui vont au-delÃ  de nos sens communs. On lâ€™appelle aus
 si plus communÃ©ment le 6e sens. Elle reprÃ©sente un vaste champs de n
 ouvelles perceptions comme les perceptions des mondes subtiles, la cla
 irvoyance, la clairaudience, la clairsentence, la tÃ©lÃ©pathie, etc. N
 ous proposons de lâ€™aborder avec la vision dâ€™une conscience Ã©largi
 e qui plus que de chercher Ã  dÃ©velopper des Â« pouvoirs Â» sâ€™attel
 le Ã  offrir une nouvelle perception sur lâ€™Ãªtre humain et ses possi
 bilitÃ©s naturelles.  Le programme dâ€™Extra-sens propose de prendre c
 onscience des perceptions extra-sensorielles que nous avons tous plus 
 ou moins consciemment, de les dÃ©velopper et dâ€™apprendre Ã  les gÃ©r
 er au quotidien.  Les soirÃ©es et les ateliers Â« Extra-sens Â» invite
 nt Ã  la dÃ©couverte de lâ€™extra-sensorialitÃ© au travers dâ€™une prÃ
 ©sentation introductive, de cercles de paroles et de pratiques collect
 ives.\n  Contenu de lâ€™atelier:  - Introduction: quelques mots sur lâ
 €™Extra-sensorialitÃ©.  - Cercle de parole: tÃ©moignage de chacun sur 
 ses expÃ©riences (nous pourrons si vous le souhaitez apporter un Ã©cla
 irage sur vos expÃ©riences)  - Pratiques Collectives: prÃ©paration aux
  pratiques, dÃ©couverte de lâ€™extra-sensorialitÃ©, dÃ©velopper ses ca
 pacitÃ©s extra-sensorielles.  ThÃ¨mes abordÃ©s: sens et extra-sensoria
 litÃ©, les Ã©tats modifiÃ©s de conscience, Ã©coute et rÃ©ceptivitÃ©, l
 es diffÃ©rents modes de perceptions, la multi-dimensionnalitÃ©, la mÃ©
 diumnitÃ©, lâ€™Ã©thique, le quotidien de lâ€™extra-sensorialitÃ©, etcâ
 €¦  Les intervenants :  Awen (Spirale de Sens): depuis son plus jeune 
 Ã¢ge, Awen baigne dans des perceptions extra-sensorielles quâ€™elle ap
 prend Ã  conscientiser, apprivoiser et gÃ©rer. De ce parcours, elle ac
 compagne et invite chacun Ã  dÃ©couvrir ses propres perceptions non-co
 nscientes mais bien lÃ  et offre un cadre rassurant pour les dÃ©velopp
 er et les accueillir.  Yann CorÃ© (La conscience du cÅ“ur) : aprÃ¨s un
 e expÃ©rience dâ€™Ã©veil importante vÃ©cue de 1999 Ã  2006, Yann nâ€™a
  cessÃ© dâ€™explorer les subtilitÃ©s et les possibilitÃ©s de la Consci
 ence. Il offre aujourdâ€™hui de transmettre les enseignements tirÃ©s d
 e ses expÃ©riences dâ€™extra-sensorialitÃ© vÃ©cues jusquâ€™Ã  ce jour.
 \n Lieu : Paris 18e, mÃ©tro Jules Joffrin. 67, rue du Mont-Cenis. Le c
 ode de porte sera donnÃ© lors de lâ€™inscription.  8 participants maxi
 mum.  Horaires : 20h-22h (Accueil Ã  partir de 19h45)  Participation :
  15â‚¬ si inscription avant le 5 dÃ©cembre. 20â‚¬ sur place.  Pour vou
 s inscrire:  Contactez Awen sur spiraledesens@gmail.com ou par tÃ©lÃ©p
 hone au 06.60.52.61.98.   DÃ©couvrez les sites d'Awen et Yann sur :  W
 WW.SPIRALEDESENS.FR et WWW.CONSCIENCEDUCOEUR.COM\n\nPour plus d'inform
 ation, aller sur https://epanews.fr/events/soir-e-extra-sens-d-veloppe
 z-votre-extra-sensorialit-1
DTSTART;TZID=Europe/Paris:20150111T200000
DTEND;TZID=Europe/Paris:20150111T220000
CATEGORIES:75
LOCATION:Ã  Paris (18Ã¨me)
WEBSITE:http://www.conscienceducoeur.com
URL:http://www.conscienceducoeur.com
CONTACT:06 24 34 44 24
ORGANIZER;CN="Conscience du Coeur":https://epanews.fr/profile/Conscien
 ceduCoeur
ATTACH;FMTTYPE="image/jpeg":http://storage.ning.com/topology/rest/1.0/
 file/get/1663258130?profile=original
ATTENDEE;ROLE=REQ-PARTICIPANT;PARTSTAT=ACCEPTED;RSVP=TRUE;CN="Conscien
 ce du Coeur":https://epanews.fr/profile/ConscienceduCoeur
END:VEVENT
END:VCALENDAR
