BEGIN:VCALENDAR
PRODID:NingEventWidget-v1
VERSION:2.0
METHOD:PUBLISH
BEGIN:VTIMEZONE
TZID:Europe/Paris
X-LIC-LOCATION:Europe/Paris
BEGIN:DAYLIGHT
TZOFFSETFROM:+0100
TZOFFSETTO:+0200
TZNAME:CEST
DTSTART:19700329T020000
RRULE:FREQ=YEARLY;BYMONTH=3;BYDAY=-1SU
END:DAYLIGHT
BEGIN:STANDARD
TZOFFSETFROM:+0200
TZOFFSETTO:+0100
TZNAME:CET
DTSTART:19701025T030000
RRULE:FREQ=YEARLY;BYMONTH=10;BYDAY=-1SU
END:STANDARD
END:VTIMEZONE
BEGIN:VEVENT
UID:2485226:Event:2101681
DTSTAMP:20260423T162845Z
SUMMARY:SoirÃ©e et atelier : l'ennÃ©agramme, un merveilleux outil de c
 onnaissance de soi
DESCRIPTION:SoirÃ©e et atelier du lendemain en PAF libre.\nLâ€™ennÃ©ag
 ramme est la combinaison dâ€™une figure diagramme quâ€™on retrouve dan
 s plusieurs traditions, qui aurait trouvÃ© origine chez les soufis, et
  dâ€™un outil de connaissance de soi que Gurdjieff a utilisÃ© pour la 
 premiÃ¨re fois en France au dÃ©but du siÃ¨cle.\nÂ Le travail proposÃ© 
 autour de lâ€™ennÃ©agramme permet la dÃ©couverte et la comprÃ©hension 
 de nos stratÃ©gies mises en place pour survivre dans ce monde. Si ces 
 stratÃ©gies sont devenues rapidement inconscientes, elles restent sour
 ces de nos motivations, de nos mÃ©canismes de dÃ©fense, de notre image
 , de ce qui focalise notre attention. Lâ€™ennÃ©agramme permet de donne
 r un Ã©clairage original et unique de la structure de notre personnali
 tÃ©, de notre Ã©go. Il donne des clÃ©s simples pour mieux nous compren
 dre et nous accepter, mieux comprendre et accepter les autres.\nLe for
 mateur\n Yves KOVACS est chef dâ€™entreprise et consultant internation
 al dans le domaine de lâ€™eau. Il possÃ¨de un master en Programmation 
 Neuro Linguistique et est certifiÃ© coach. Il a dâ€™abord Ã©tÃ© marquÃ
 © par les mÃ©thodes de connaissance de soi mises en place par les cult
 ures AmÃ©rindiennes et issues de la mÃ©ditation Zen. Il a Ã©tÃ© formÃ©
  en sÃ©minaires intensifs Ã  lâ€™ennÃ©agramme par Gilda Crillo. Il en 
 a tirÃ© une conscience de lui-mÃªme qui lui a donnÃ© envie dâ€™enseign
 er lâ€™usage de cet outil et de partager son expÃ©rience. Câ€™est pour
 quoi, il a approfondi sa connaissance de lâ€™ennÃ©agramme en suivant d
 es stages avec Helen Palmer et avec Claudio Naranjo, qui sont tous deu
 x des rÃ©fÃ©rents internationaux de cet outil.\nCette session de prÃ©s
 entation sera suivie d'un stage les 10 et 11 janvier 2015 :  \"Connais
 sance de Soi par l'ennÃ©agramme\"\n\n\nPour plus d'information, aller 
 sur https://epanews.fr/events/soir-e-et-atelier-l-enn-agramme-un-merve
 illeux-outil-de
DTSTART;TZID=Europe/Paris:20141121T190000
DTEND;TZID=Europe/Paris:20141122T000000
CATEGORIES:30
LOCATION:NIMES - Jardin IntÃ©rieur
WEBSITE:http://www.lemniscate-processus.com
URL:http://www.lemniscate-processus.com
CONTACT:0466261683
ORGANIZER;CN="Jardin intÃ©rieur":https://epanews.fr/profile/Lemniscate
 Processus
ATTACH;FMTTYPE="image/jpeg":http://storage.ning.com/topology/rest/1.0/
 file/get/1663244263?profile=original
ATTENDEE;ROLE=REQ-PARTICIPANT;PARTSTAT=ACCEPTED;RSVP=TRUE;CN="Jardin i
 ntÃ©rieur":https://epanews.fr/profile/LemniscateProcessus
END:VEVENT
END:VCALENDAR
