BEGIN:VCALENDAR
PRODID:NingEventWidget-v1
VERSION:2.0
METHOD:PUBLISH
BEGIN:VTIMEZONE
TZID:Europe/Paris
X-LIC-LOCATION:Europe/Paris
BEGIN:DAYLIGHT
TZOFFSETFROM:+0100
TZOFFSETTO:+0200
TZNAME:CEST
DTSTART:19700329T020000
RRULE:FREQ=YEARLY;BYMONTH=3;BYDAY=-1SU
END:DAYLIGHT
BEGIN:STANDARD
TZOFFSETFROM:+0200
TZOFFSETTO:+0100
TZNAME:CET
DTSTART:19701025T030000
RRULE:FREQ=YEARLY;BYMONTH=10;BYDAY=-1SU
END:STANDARD
END:VTIMEZONE
BEGIN:VEVENT
UID:2485226:Event:1951618
DTSTAMP:20260423T000400Z
SUMMARY:Soirée dansante au profit du Centre Ressource
DESCRIPTION:Samedi 28 juin 2014 à partir de 20 h 30SOIREE DE BIENFAIS
 ANCE à la salle du Château de l' Horloge 50 place du Château de l'h
 orloge ZAC à Aix en Provence\nSOIREE DANSANTE  : Spectacle et ambi
 ance musicale garantis, pour poursuivre le soutien et l'accompagnemen
 t des   personnes atteintes d'un cancer.\nVENEZ NOMBREUX \n15 euros
  l'entrée. enfant gratuit jusqu'à 12 ans.              
 Pizza, gâteaux, boissons en sus.\nréservation auprès de Cathy au 0
 6.32.65.26.96 ou directement au Centre Ressource au 04.42.22.54.81\n\n
 Pour plus d'information, aller sur https://epanews.fr/events/soir-e-da
 nsante-au-profit-du-centre-ressource
DTSTART;TZID=Europe/Paris:20140628T203000
DTEND;TZID=Europe/Paris:20140629T020000
CATEGORIES:13
LOCATION:Salle des fêtes
WEBSITE:http://www.centreressource.org
URL:http://www.centreressource.org
CONTACT:06.32.65.26.96
ORGANIZER:véro et cathy
ATTACH;FMTTYPE="image/jpeg":
ATTENDEE;ROLE=REQ-PARTICIPANT;PARTSTAT=ACCEPTED;RSVP=TRUE;CN="MICHEL M
 arie-Catherine":https://epanews.fr/profile/MICHELMarieCatherine
ATTENDEE;ROLE=REQ-PARTICIPANT;PARTSTAT=ACCEPTED;RSVP=TRUE;CN=véro:htt
 ps://epanews.fr/profile/vero750
END:VEVENT
END:VCALENDAR
