BEGIN:VCALENDAR
PRODID:NingEventWidget-v1
VERSION:2.0
METHOD:PUBLISH
BEGIN:VTIMEZONE
TZID:Europe/Paris
X-LIC-LOCATION:Europe/Paris
BEGIN:DAYLIGHT
TZOFFSETFROM:+0100
TZOFFSETTO:+0200
TZNAME:CEST
DTSTART:19700329T020000
RRULE:FREQ=YEARLY;BYMONTH=3;BYDAY=-1SU
END:DAYLIGHT
BEGIN:STANDARD
TZOFFSETFROM:+0200
TZOFFSETTO:+0100
TZNAME:CET
DTSTART:19701025T030000
RRULE:FREQ=YEARLY;BYMONTH=10;BYDAY=-1SU
END:STANDARD
END:VTIMEZONE
BEGIN:VEVENT
UID:2485226:Event:756057
DTSTAMP:20260424T082941Z
SUMMARY:SoirÃ©e d'introduction Ã  l'enseignement universel nÂ°1
DESCRIPTION:ThÃ¨me nÂ°1: Le PrincipeÂ GnostiqueÂ dans l'Ãªtre humainÂ 
 \nIntroduction au thÃ¨me de la soirÃ©e : Les thÃ¨mes des soirÃ©es d'in
 troduction Ã  l'Enseignement Universel se complÃ¨tent les uns les autr
 es pour former un tout. Si leur contenu n'est pas seulement reÃ§u inte
 lectuellement, mais qu'on essaye d'en percer jusqu'Ã  l'essence, on Ã©
 prouvera la rÃ©alitÃ©. Cette essence est cachÃ©e en chaque Ãªtre humai
 n. En se rÃ©vÃ¨lant, elle permet d'accÃ©der Ã  un savoir direct, une r
 enconnaissance intÃ©rieure. C'est ce qu'on nomme \" le Savoir Gnostiqu
 e\".\nLa comprÃ©hension ouvre la porte du Temple, c'est Ã  dire l'accÃ
 ¨s au chemin de reconstruction de notre dimension originelle.\nEntrÃ©e
  et participation libre.\n\nPour plus d'information, aller sur https:/
 /epanews.fr/events/soir-e-d-introduction-l-enseignement-universel-n-1-
 le-principe-de
DTSTART;TZID=Europe/Paris:20120417T200000
DTEND;TZID=Europe/Paris:20120417T220000
CATEGORIES:59
LOCATION:LILLE
WEBSITE:http://www.lille.rose-croix-d-or.org
URL:http://www.lille.rose-croix-d-or.org
CONTACT:03.20.81.15.10
ORGANIZER;CN="Francis Vorlicek":https://epanews.fr/profile/FrancisVorl
 icek
ATTACH;FMTTYPE="image/jpeg":http://storage.ning.com/topology/rest/1.0/
 file/get/1662587924?profile=original
ATTENDEE;ROLE=REQ-PARTICIPANT;PARTSTAT=ACCEPTED;RSVP=TRUE;CN="Francis 
 Vorlicek":https://epanews.fr/profile/FrancisVorlicek
END:VEVENT
END:VCALENDAR
