BEGIN:VCALENDAR
PRODID:NingEventWidget-v1
VERSION:2.0
METHOD:PUBLISH
BEGIN:VTIMEZONE
TZID:Europe/Paris
X-LIC-LOCATION:Europe/Paris
BEGIN:DAYLIGHT
TZOFFSETFROM:+0100
TZOFFSETTO:+0200
TZNAME:CEST
DTSTART:19700329T020000
RRULE:FREQ=YEARLY;BYMONTH=3;BYDAY=-1SU
END:DAYLIGHT
BEGIN:STANDARD
TZOFFSETFROM:+0200
TZOFFSETTO:+0100
TZNAME:CET
DTSTART:19701025T030000
RRULE:FREQ=YEARLY;BYMONTH=10;BYDAY=-1SU
END:STANDARD
END:VTIMEZONE
BEGIN:VEVENT
UID:2485226:Event:2934486
DTSTAMP:20260424T213012Z
SUMMARY:Soirée d’entraînement à la Communication Non Violente
DESCRIPTION:Connaissez-vous la Communication Non violente ?Créée par
  Marshall Rosenberg et reconnue dans le monde entier, cette méthode p
 ermet de clarifier son positionnement en soi-même pour mieux interagi
 r avec les autres.Que vous découvrirez ou ayez déjà participé à d
 es stages, la clé pour l’appliquer au sein de ses relations, c’es
 t de s’entraîner ; ça vous dit ?Cet atelier est animé une fois pa
 r mois par Swan Louis Truong, coach personnel et formateur en entrepri
 se. Il reviendra sur les bases et les étapes du procédé, pour ensui
 te s’appuyer sur les exemples que le groupe apportera. Autant vous p
 révenir que ce sera pratique et ludique !Vous ressortirez au cours de
 s entraînement avec une meilleure maîtrise à intégrer directement 
 dans vos propres relations..Cet Atelier est le 1er d'une série d'atel
 iers mensuels ciblant chaque fois un domaine de relation : couple, fam
 ille, voisins, amis etc. L'idéal serait d'être assidu ;-) Participat
 ion : 20€ et 15€ pour les – de 26 ans\n\nPour plus d'information
 , aller sur https://epanews.fr/events/soir-e-d-entra-nement-la-communi
 cation-non-violente
DTSTART;TZID=Europe/Paris:20180215T193000
DTEND;TZID=Europe/Paris:20180215T210000
CATEGORIES:75
LOCATION:PariSoleil - ex -Jardin du Graal
WEBSITE:http://lejardindugraal.fr/programmation-culturelle/soiree-dent
 rainement-a-communication-non-violente/
URL:http://lejardindugraal.fr/programmation-culturelle/soiree-dentrain
 ement-a-communication-non-violente/
CONTACT:0143149891
ORGANIZER:PariSoleilAsso
ATTACH;FMTTYPE="image/jpeg":http://storage.ning.com/topology/rest/1.0/
 file/get/1663720518?profile=original
ATTENDEE;ROLE=REQ-PARTICIPANT;PARTSTAT=ACCEPTED;RSVP=TRUE;CN="PariSole
 il 75011":https://epanews.fr/profile/LeJardinduGraalParis
END:VEVENT
END:VCALENDAR
