BEGIN:VCALENDAR
PRODID:NingEventWidget-v1
VERSION:2.0
METHOD:PUBLISH
BEGIN:VTIMEZONE
TZID:Europe/Paris
X-LIC-LOCATION:Europe/Paris
BEGIN:DAYLIGHT
TZOFFSETFROM:+0100
TZOFFSETTO:+0200
TZNAME:CEST
DTSTART:19700329T020000
RRULE:FREQ=YEARLY;BYMONTH=3;BYDAY=-1SU
END:DAYLIGHT
BEGIN:STANDARD
TZOFFSETFROM:+0200
TZOFFSETTO:+0100
TZNAME:CET
DTSTART:19701025T030000
RRULE:FREQ=YEARLY;BYMONTH=10;BYDAY=-1SU
END:STANDARD
END:VTIMEZONE
BEGIN:VEVENT
UID:2485226:Event:968264
DTSTAMP:20260419T213447Z
SUMMARY:Soirée découverte de la Biodanza
DESCRIPTION:Grande soirée découverte de la Biodanza,\nvendredi 12 oc
 t au Foruml104, 104 rie de Vaugirard, Paris 6 métro St Placide.\nDe 1
 9 h 22H;\nJ'y serai et vous?\n \nNathalie\n\nPour plus d'information,
  aller sur https://epanews.fr/events/soir-e-d-couverte-de-la-biodanza-
 1
DTSTART;TZID=Europe/Paris:20121012T190000
DTEND;TZID=Europe/Paris:20121012T220000
CATEGORIES:75
LOCATION:FORUM 104
WEBSITE:http://www.biodanza-france.com
URL:http://www.biodanza-france.com
CONTACT:01 46 29 07 92
ORGANIZER:APB-RP biodanza en région parisienne
ATTACH;FMTTYPE="image/jpeg":
ATTENDEE;ROLE=REQ-PARTICIPANT;PARTSTAT=ACCEPTED;RSVP=TRUE;CN="Biodanza
  Nathalie":https://epanews.fr/profile/Arnould
END:VEVENT
END:VCALENDAR
