BEGIN:VCALENDAR
PRODID:NingEventWidget-v1
VERSION:2.0
METHOD:PUBLISH
BEGIN:VTIMEZONE
TZID:Europe/Paris
X-LIC-LOCATION:Europe/Paris
BEGIN:DAYLIGHT
TZOFFSETFROM:+0100
TZOFFSETTO:+0200
TZNAME:CEST
DTSTART:19700329T020000
RRULE:FREQ=YEARLY;BYMONTH=3;BYDAY=-1SU
END:DAYLIGHT
BEGIN:STANDARD
TZOFFSETFROM:+0200
TZOFFSETTO:+0100
TZNAME:CET
DTSTART:19701025T030000
RRULE:FREQ=YEARLY;BYMONTH=10;BYDAY=-1SU
END:STANDARD
END:VTIMEZONE
BEGIN:VEVENT
UID:2485226:Event:2218412
DTSTAMP:20260425T195143Z
SUMMARY:Soirée découverte astrothérapie
DESCRIPTION:L’Astrothérapie : mettre à jour ses schémas, reconna
 itre ses forces.\n \nDans cette conférence, nous irons à la découv
 erte des multiples informations que recèle le thème astrologique. Ce
 s informations sont des indications précieuses pour mieux se connaitr
 e et s’accepter davantage. Quand nous nous acceptons, nous devenons 
 plus libre et joyeux naturellement car nous devenons complice de nous-
 même. Et Plutôt que de nous considérer comme un ennemi qu’il faut
  sans cesse surveiller et corriger, nous apprenons à nous apprivoiser
 , à développer une meilleure relation avec nous-même. Nous pouvons 
 alors accepter pleinement notre humanité et la mettre au service de n
 os aspirations les plus hautes. Nous entrons dans une joyeuse co-créa
 tion pour nous même et notre entourage.C’est ce que propose l’ast
 rothérapie : mieux se connaitre pour s’accompagner au jour le jour 
 vers ce qui nous satisfait le plus. Apprendre à déjouer les schémas
  qui ne nous correspondent plus et créer pour nous même ce que nous 
 voulons.Dans cette conférence qui vous initie à l'astrologie, je vou
 s montrerai comment les éléments clés du thème astral peuvent vous
  servir dans votre vie quotidienne.Au plaisir de vous y accueillir !Na
 ël Duédari\nLe mercredi 11 février 2015 à 19h30.à L’ESPACE THOT
 H’M, 35-37 Rue Beaubourg 75003 Paris - M° RambuteauParticipation li
 bre - Donation suggérée 10€.Durée environ 1h30Inscription ici.Vou
 s recevrez le code d'accès de l'Espace Thoth'm à l'inscription.\n\nP
 our plus d'information, aller sur https://epanews.fr/events/soir-e-d-c
 ouverte-astroth-rapie
DTSTART;TZID=Europe/Paris:20150211T193000
DTEND;TZID=Europe/Paris:20150211T210000
CATEGORIES:75
LOCATION:ESPACE THOTH’M
WEBSITE:http://astrotherapie.cap-terre.net/ateliers/34-conference3
URL:http://astrotherapie.cap-terre.net/ateliers/34-conference3
CONTACT:0601782530
ORGANIZER:Nael Duédari
ATTACH;FMTTYPE="image/jpeg":http://storage.ning.com/topology/rest/1.0/
 file/get/1663322132?profile=original
ATTENDEE;ROLE=REQ-PARTICIPANT;PARTSTAT=ACCEPTED;RSVP=TRUE;CN=nael:http
 s://epanews.fr/profile/nael
END:VEVENT
END:VCALENDAR
