BEGIN:VCALENDAR
PRODID:NingEventWidget-v1
VERSION:2.0
METHOD:PUBLISH
BEGIN:VTIMEZONE
TZID:Europe/Paris
X-LIC-LOCATION:Europe/Paris
BEGIN:DAYLIGHT
TZOFFSETFROM:+0100
TZOFFSETTO:+0200
TZNAME:CEST
DTSTART:19700329T020000
RRULE:FREQ=YEARLY;BYMONTH=3;BYDAY=-1SU
END:DAYLIGHT
BEGIN:STANDARD
TZOFFSETFROM:+0200
TZOFFSETTO:+0100
TZNAME:CET
DTSTART:19701025T030000
RRULE:FREQ=YEARLY;BYMONTH=10;BYDAY=-1SU
END:STANDARD
END:VTIMEZONE
BEGIN:VEVENT
UID:2485226:Event:1051392
DTSTAMP:20260421T155133Z
SUMMARY:Soirée culturelle
DESCRIPTION:- Présentation du roman \"Les voyageurs au sang d'or\" de
  Kathy Dauthuille\n- Discussion sur le thème des Gitans\n- Récital d
 e Musique Tzigane\n- Diction de poèmes en rapport\n- Pot de l'amitié
 \nENTRÉE GRATUITE\n\nPour plus d'information, aller sur https://epane
 ws.fr/events/soir-e-culturelle
DTSTART;TZID=Europe/Paris:20121208T180000
DTEND;TZID=Europe/Paris:20121208T220000
CATEGORIES:85
LOCATION:Petite Salle des Ormeaux à JARD-SUR-MER
WEBSITE:
URL:
CONTACT:
ORGANIZER;CN=Terrevive:https://epanews.fr/profile/KathyDauthuille610
ATTACH;FMTTYPE="image/jpeg":
ATTENDEE;ROLE=REQ-PARTICIPANT;PARTSTAT=ACCEPTED;RSVP=TRUE;CN=Terrevive
 :https://epanews.fr/profile/KathyDauthuille610
END:VEVENT
END:VCALENDAR
