BEGIN:VCALENDAR
PRODID:NingEventWidget-v1
VERSION:2.0
METHOD:PUBLISH
BEGIN:VTIMEZONE
TZID:Europe/Paris
X-LIC-LOCATION:Europe/Paris
BEGIN:DAYLIGHT
TZOFFSETFROM:+0100
TZOFFSETTO:+0200
TZNAME:CEST
DTSTART:19700329T020000
RRULE:FREQ=YEARLY;BYMONTH=3;BYDAY=-1SU
END:DAYLIGHT
BEGIN:STANDARD
TZOFFSETFROM:+0200
TZOFFSETTO:+0100
TZNAME:CET
DTSTART:19701025T030000
RRULE:FREQ=YEARLY;BYMONTH=10;BYDAY=-1SU
END:STANDARD
END:VTIMEZONE
BEGIN:VEVENT
UID:2485226:Event:2941764
DTSTAMP:20260421T130900Z
SUMMARY:SoirÃ©e CinÃ©-dÃ©bat \"Câ€™est quoi le bonheur pour vous ?\"
DESCRIPTION:LesÂ Z'ateliersÂ deÂ CatherineÂ vous invitent Ã  participe
 r Ã  la projection du film-documentaire rÃ©alisÃ© par Julien PERON \" 
 c'est quoi le bonheur pour vous ?\".\n800 000 kms - 1 500 interviews â
 €“ 25 pays\nUn film magnifique et rempli d'humanitÃ© et d'Ã©motions qu
 i amÃ¨ne chacun Ã  se questionner et Ã  trouver ses propres rÃ©ponses.
  La diffusion sera suivie d'un dÃ©bat animÃ© par Dominique Proudhon, e
 n toute convivialitÃ©.\nEntrÃ©e : 5â‚¬\nAttention : Inscription obliga
 toire sur www.leszateliersdecatherine.fr ou 06 16 41 56 63\n\nPour plu
 s d'information, aller sur https://epanews.fr/events/soir-e-cin-d-bat-
 c-est-quoi-le-bonheur-pour-vous
DTSTART;TZID=Europe/Paris:20180329T200000
DTEND;TZID=Europe/Paris:20180329T220000
CATEGORIES:30
LOCATION:Le Zigom
WEBSITE:
URL:
CONTACT:0616415663
ORGANIZER;CN="LAURENT Catherine":https://epanews.fr/profile/LAURENTCat
 herine
ATTACH;FMTTYPE="image/jpeg":http://storage.ning.com/topology/rest/1.0/
 file/get/1663730095?profile=original
ATTENDEE;ROLE=REQ-PARTICIPANT;PARTSTAT=ACCEPTED;RSVP=TRUE;CN="LAURENT 
 Catherine":https://epanews.fr/profile/LAURENTCatherine
END:VEVENT
END:VCALENDAR
