BEGIN:VCALENDAR
PRODID:NingEventWidget-v1
VERSION:2.0
METHOD:PUBLISH
BEGIN:VTIMEZONE
TZID:Europe/Paris
X-LIC-LOCATION:Europe/Paris
BEGIN:DAYLIGHT
TZOFFSETFROM:+0100
TZOFFSETTO:+0200
TZNAME:CEST
DTSTART:19700329T020000
RRULE:FREQ=YEARLY;BYMONTH=3;BYDAY=-1SU
END:DAYLIGHT
BEGIN:STANDARD
TZOFFSETFROM:+0200
TZOFFSETTO:+0100
TZNAME:CET
DTSTART:19701025T030000
RRULE:FREQ=YEARLY;BYMONTH=10;BYDAY=-1SU
END:STANDARD
END:VTIMEZONE
BEGIN:VEVENT
UID:2485226:Event:3050702
DTSTAMP:20260422T065650Z
SUMMARY:Soirée Chocolat tarot
DESCRIPTION:                          Bonjour à toutes e
 t à tous,\n ChocoLATITUDES et Laurence, la maîtresse des lieux, ont
  le plaisir de vous annoncer \nUne soirée Chocolat-Tarot aux dates 
 suivantes de 18 à 21 heures, avec Houria (06 87 83 53 51) :\n\nje
 udi 28 mai 2020\njeudi 25 juin 2020,\nBienvenu(e)s autour d’un ve
 rre ou d’une tasse.\nLes consultations et les conférences sont grat
 uites (Si vous désirez participer une boite est à votre disposition)
 .\nSeule obligation, prendre une consommation.\nPar ailleurs pour cons
 erver la qualité de ma consultation au niveau du temps et respecter l
 a demande de Laurencen de finir à 21 heures, il ne sera possible de v
 enir consulter au café que deux fois dans l'année pour une même per
 sonne. Plus une fois supplémentaire si elle vient accompagnée d'une 
 nouvelle personne.   \nChocoLATITUDES,\n C’est une boutique thé
 matique autour du chocolat issu de l’Agriculture Biologique et/ou du
  Commerce Equitable, où l’on peut également déguster des chocolat
 s chauds, cafés, thés, infusions, jus de fruits et autres friandises
  chocolatées.\n 57 Rue Daguerre 75014 Paris\n Métro Denfert-Roch
 ereau, Gaîté\n Station Vélib la plus proche : Rue Froidevaux\n 01
  42 18 49 02\nhttp://www.chocolatitudes.com \n« Cesse de chercher ta
  place dans la vie, ta place te cherche. »   Kalif Ali\n\nPour plus
  d'information, aller sur https://epanews.fr/events/soir-e-chocolat-ta
 rot-4
DTSTART;TZID=Europe/Paris:20200528T180000
DTEND;TZID=Europe/Paris:20200528T210000
CATEGORIES:75
LOCATION:paris 14e
WEBSITE:
URL:
CONTACT:0687835351
ORGANIZER;CN=globale:https://epanews.fr/profile/globale
ATTACH;FMTTYPE="image/jpeg":
ATTENDEE;ROLE=REQ-PARTICIPANT;PARTSTAT=ACCEPTED;RSVP=TRUE;CN=globale:h
 ttps://epanews.fr/profile/globale
END:VEVENT
END:VCALENDAR
