BEGIN:VCALENDAR
PRODID:NingEventWidget-v1
VERSION:2.0
METHOD:PUBLISH
BEGIN:VTIMEZONE
TZID:Europe/Paris
X-LIC-LOCATION:Europe/Paris
BEGIN:DAYLIGHT
TZOFFSETFROM:+0100
TZOFFSETTO:+0200
TZNAME:CEST
DTSTART:19700329T020000
RRULE:FREQ=YEARLY;BYMONTH=3;BYDAY=-1SU
END:DAYLIGHT
BEGIN:STANDARD
TZOFFSETFROM:+0200
TZOFFSETTO:+0100
TZNAME:CET
DTSTART:19701025T030000
RRULE:FREQ=YEARLY;BYMONTH=10;BYDAY=-1SU
END:STANDARD
END:VTIMEZONE
BEGIN:VEVENT
UID:2485226:Event:2553444
DTSTAMP:20260422T053850Z
SUMMARY:SoirÃ©e Chants SacrÃ©s : samedi 16 janvier Ã  Paris 12Ã¨me - 1
 9h30
DESCRIPTION:Bonjour Ã  toutes et Ã  tous,\nÂ \nÂ puisse cetteÂ nouvell
 e annÃ©eÂ ÃªtreÂ lumineuseÂ pour chacun, chacune etÂ porteuse de frate
 rnitÃ©Â !!!\nÂ \nÂ CÃ©lÃ©brons ensemble ce nouveau cycle dans les vibr
 ations de paix et de joie des chants SacrÃ©s!\nÂ \nÂ Retrouvons-nous l
 eÂ samedi 16 janvier Ã  19h30:\nâ€‹â€‹â€‹\n\n\nVous trouverez iciÂ un 
 extrait vidÃ©o\n\n\nÂ \nDans la joie de cette rencontre,Â \nÂ \nChaleu
 reusement,\nÂ \nMurielle Mandakini et Mehdi Manohar\npour l'Associatio
 n Chants SacrÃ©s du monde\nE-mail :Â info@shantigaia.org\nsite :Â www.
 shantigaia.org\nFacebook :Â https://www.facebook.com/shantigaia.org\nÂ
  \n\n\n\n\nPour plus d'information, aller sur https://epanews.fr/event
 s/soir-e-chants-sacr-s-samedi-16-janvier-paris-12-me-19h30
DTSTART;TZID=Europe/Paris:20160116T193000
DTEND;TZID=Europe/Paris:20160116T213000
CATEGORIES:75
LOCATION:Centre Yosansara
WEBSITE:http://www.shantigaia.org
URL:http://www.shantigaia.org
CONTACT:06 31 53 87 24
ORGANIZER;CN=musiqueclemennt:https://epanews.fr/profile/musiqueclemenn
 t
ATTACH;FMTTYPE="image/jpeg":http://storage.ning.com/topology/rest/1.0/
 file/get/1663513412?profile=original
ATTENDEE;ROLE=REQ-PARTICIPANT;PARTSTAT=ACCEPTED;RSVP=TRUE;CN=musiquecl
 emennt:https://epanews.fr/profile/musiqueclemennt
END:VEVENT
END:VCALENDAR
