BEGIN:VCALENDAR
PRODID:NingEventWidget-v1
VERSION:2.0
METHOD:PUBLISH
BEGIN:VTIMEZONE
TZID:Europe/Paris
X-LIC-LOCATION:Europe/Paris
BEGIN:DAYLIGHT
TZOFFSETFROM:+0100
TZOFFSETTO:+0200
TZNAME:CEST
DTSTART:19700329T020000
RRULE:FREQ=YEARLY;BYMONTH=3;BYDAY=-1SU
END:DAYLIGHT
BEGIN:STANDARD
TZOFFSETFROM:+0200
TZOFFSETTO:+0100
TZNAME:CET
DTSTART:19701025T030000
RRULE:FREQ=YEARLY;BYMONTH=10;BYDAY=-1SU
END:STANDARD
END:VTIMEZONE
BEGIN:VEVENT
UID:2485226:Event:2647308
DTSTAMP:20260422T100816Z
SUMMARY:Soirée Chants Sacrés : Lumière du coeur
DESCRIPTION:Bonjour à toutes et à tous,\nNous avons vécu une magnif
 ique soirée Chants Sacrés, samedi 2 avril dernier !  A travers les c
 hants, nous avons ressenti et partagé une grande et belle vibration d
 'amour et de joie !!! Merci à toutes les personnes présentes de part
 iciper avec nous à la création d'une nouvelle humanité.\nNous vous 
 invitons à poursuivre cette aventure lors de la prochaine soirée Cha
 nts Sacrés qui aura lieu le samedi 21 mai de 19h30 à 21h30 au centre
  Yogsansara:  24, rue des Marguettes Paris 12ème, M°Porte de Vincenn
 es ou Picpus\n\n\nEt très bientôt, Shanti Gaia jouera à Nuit Debout
 , Place de la République à Paris\n\n\nDans la joie de vous retrouver
 ,\nJayanta Clément Association Chants Sacrés du monde E-mail : info@
 shantigaia.org site : www.shantigaia.org Facebook : https://www.facebo
 ok.com/shantigaia.org\n\n\nPour plus d'information, aller sur https://
 epanews.fr/events/soir-e-chants-sacr-s-lumi-re-du-coeur-1
DTSTART;TZID=Europe/Paris:20160521T193000
DTEND;TZID=Europe/Paris:20160521T210000
CATEGORIES:75
LOCATION:Centre Yosansara
WEBSITE:http://www.shantigaia.org
URL:http://www.shantigaia.org
CONTACT:0687024684
ORGANIZER;CN=musiqueclemennt:https://epanews.fr/profile/musiqueclemenn
 t
ATTACH;FMTTYPE="image/jpeg":http://storage.ning.com/topology/rest/1.0/
 file/get/1663565127?profile=original
ATTENDEE;ROLE=REQ-PARTICIPANT;PARTSTAT=ACCEPTED;RSVP=TRUE;CN=musiquecl
 emennt:https://epanews.fr/profile/musiqueclemennt
END:VEVENT
END:VCALENDAR
