BEGIN:VCALENDAR
PRODID:NingEventWidget-v1
VERSION:2.0
METHOD:PUBLISH
BEGIN:VTIMEZONE
TZID:Europe/Paris
X-LIC-LOCATION:Europe/Paris
BEGIN:DAYLIGHT
TZOFFSETFROM:+0100
TZOFFSETTO:+0200
TZNAME:CEST
DTSTART:19700329T020000
RRULE:FREQ=YEARLY;BYMONTH=3;BYDAY=-1SU
END:DAYLIGHT
BEGIN:STANDARD
TZOFFSETFROM:+0200
TZOFFSETTO:+0100
TZNAME:CET
DTSTART:19701025T030000
RRULE:FREQ=YEARLY;BYMONTH=10;BYDAY=-1SU
END:STANDARD
END:VTIMEZONE
BEGIN:VEVENT
UID:2485226:Event:2752471
DTSTAMP:20260422T180346Z
SUMMARY:Modification demandée
DESCRIPTION:Expression de l'âme, le chant sacré nous élève.\nIl im
 prègne en nous une profonde sérénité et une immense joie !\n En a
 ttendant, vous pouvez (re)découvrir le bhajan \"Govinda Narayana\" en
  cliquant ici ! \nParticipation: 8€ - gratuit moins 12 ans Adhés
 ion association: 2€\nMurielle Mandakini, Mehdi Manohar\nAssociation 
 Chants Sacrés du monde\nE-mail : info@shantigaia.org\nsite : www.sh
 antigaia.org\nFacebook : https://www.facebook.com/sha ntigaia.org\n\n
 \nPour plus d'information, aller sur https://epanews.fr/events/soir-e-
 chants-sacr-s-dimanche-11-decembre-18h15
DTSTART;TZID=Europe/Paris:20161211T181500
DTEND;TZID=Europe/Paris:20161211T200000
CATEGORIES:75
LOCATION:Centre Yogsansara
WEBSITE:http://www.shantigaia.org
URL:http://www.shantigaia.org
CONTACT:0687024684
ORGANIZER;CN=musiqueclemennt:https://epanews.fr/profile/musiqueclemenn
 t
ATTACH;FMTTYPE="image/jpeg":http://storage.ning.com/topology/rest/1.0/
 file/get/1663628226?profile=original
ATTENDEE;ROLE=REQ-PARTICIPANT;PARTSTAT=ACCEPTED;RSVP=TRUE;CN=musiquecl
 emennt:https://epanews.fr/profile/musiqueclemennt
ATTENDEE;ROLE=REQ-PARTICIPANT;PARTSTAT=TENTATIVE;RSVP=TRUE;CN=amore:ht
 tps://epanews.fr/profile/amore
END:VEVENT
END:VCALENDAR
