BEGIN:VCALENDAR
PRODID:NingEventWidget-v1
VERSION:2.0
METHOD:PUBLISH
BEGIN:VTIMEZONE
TZID:Europe/Paris
X-LIC-LOCATION:Europe/Paris
BEGIN:DAYLIGHT
TZOFFSETFROM:+0100
TZOFFSETTO:+0200
TZNAME:CEST
DTSTART:19700329T020000
RRULE:FREQ=YEARLY;BYMONTH=3;BYDAY=-1SU
END:DAYLIGHT
BEGIN:STANDARD
TZOFFSETFROM:+0200
TZOFFSETTO:+0100
TZNAME:CET
DTSTART:19701025T030000
RRULE:FREQ=YEARLY;BYMONTH=10;BYDAY=-1SU
END:STANDARD
END:VTIMEZONE
BEGIN:VEVENT
UID:2485226:Event:2340062
DTSTAMP:20260425T051812Z
SUMMARY:Soirée Chants Sacrés
DESCRIPTION:Vous découvrirez des chants et des rythmes issues de dive
 rses traditions\ndu monde et aussi des créations inspirées.\n \nExp
 ression de l'âme, le chant sacré imprègne en nous\nune profonde sé
 rénité et une immense joie!\nVous êtes toutes et tous les bienvenu
 (e)s!\n \nParticipation : 8 €\nEntrée libre : enfants moins de 12
  ans\nAdhésion requise valable 1 an : 2€\n\nPour plus d'information
 , aller sur https://epanews.fr/events/soir-e-chants-sacr-s-3
DTSTART;TZID=Europe/Paris:20150613T193000
DTEND;TZID=Europe/Paris:20150613T213000
CATEGORIES:75
LOCATION:Centre Make Me Yoga
WEBSITE:http://www.shantigaia.org/
URL:http://www.shantigaia.org/
CONTACT:06 87 02 46 84
ORGANIZER;CN=musiqueclemennt:https://epanews.fr/profile/musiqueclemenn
 t
ATTACH;FMTTYPE="image/jpeg":http://storage.ning.com/topology/rest/1.0/
 file/get/1663405289?profile=original
ATTENDEE;ROLE=REQ-PARTICIPANT;PARTSTAT=ACCEPTED;RSVP=TRUE;CN=musiquecl
 emennt:https://epanews.fr/profile/musiqueclemennt
END:VEVENT
END:VCALENDAR
