BEGIN:VCALENDAR
PRODID:NingEventWidget-v1
VERSION:2.0
METHOD:PUBLISH
BEGIN:VTIMEZONE
TZID:Europe/Paris
X-LIC-LOCATION:Europe/Paris
BEGIN:DAYLIGHT
TZOFFSETFROM:+0100
TZOFFSETTO:+0200
TZNAME:CEST
DTSTART:19700329T020000
RRULE:FREQ=YEARLY;BYMONTH=3;BYDAY=-1SU
END:DAYLIGHT
BEGIN:STANDARD
TZOFFSETFROM:+0200
TZOFFSETTO:+0100
TZNAME:CET
DTSTART:19701025T030000
RRULE:FREQ=YEARLY;BYMONTH=10;BYDAY=-1SU
END:STANDARD
END:VTIMEZONE
BEGIN:VEVENT
UID:2485226:Event:778608
DTSTAMP:20260423T184443Z
SUMMARY:SoirÃ©e Chant Indien Ã  Paris 11
DESCRIPTION:Ce samedi prochaine SoirÃ©e Chants Indiens KIRTANSÂ -Â sam
 edi 21avril Ã  18h30Â avec l'artiste indienÂ Pdt Shivkumar et Ananda,Â
  de l'associationÂ Swar InternationalÂ : chants, rÃ©pÃ©tition de mantr
 as, mÃ©ditation et paix du coeur.Â  Suivi d'Ã©changes et collation\nMe
 mbres habituels : 5 â‚¬ - Nouveaux membres 7 â‚¬\nau Centre Chinmaya S
 hakti - 3 rue Jean MacÃ© 75018 PARIS - code 1A75\nmÃ©tro Charonne ou R
 ue des Boulets\n\n\nPour plus d'information, aller sur https://epanews
 .fr/events/soir-e-chant-indien-paris-11
DTSTART;TZID=Europe/Paris:20120421T183000
DTEND;TZID=Europe/Paris:20120421T193000
CATEGORIES:75
LOCATION:PARIS
WEBSITE:
URL:
CONTACT:0612795418
ORGANIZER;CN="Ananda - Chant & Yoga du son":https://epanews.fr/profile
 /SwarInternational
ATTACH;FMTTYPE="image/jpeg":http://storage.ning.com/topology/rest/1.0/
 file/get/1662593104?profile=original
ATTENDEE;ROLE=REQ-PARTICIPANT;PARTSTAT=ACCEPTED;RSVP=TRUE;CN=keralaa:h
 ttps://epanews.fr/profile/keralaa
ATTENDEE;ROLE=REQ-PARTICIPANT;PARTSTAT=ACCEPTED;RSVP=TRUE;CN="Ananda -
  Chant & Yoga du son":https://epanews.fr/profile/SwarInternational
END:VEVENT
END:VCALENDAR
