BEGIN:VCALENDAR
PRODID:NingEventWidget-v1
VERSION:2.0
METHOD:PUBLISH
BEGIN:VTIMEZONE
TZID:Europe/Paris
X-LIC-LOCATION:Europe/Paris
BEGIN:DAYLIGHT
TZOFFSETFROM:+0100
TZOFFSETTO:+0200
TZNAME:CEST
DTSTART:19700329T020000
RRULE:FREQ=YEARLY;BYMONTH=3;BYDAY=-1SU
END:DAYLIGHT
BEGIN:STANDARD
TZOFFSETFROM:+0200
TZOFFSETTO:+0100
TZNAME:CET
DTSTART:19701025T030000
RRULE:FREQ=YEARLY;BYMONTH=10;BYDAY=-1SU
END:STANDARD
END:VTIMEZONE
BEGIN:VEVENT
UID:2485226:Event:1976060
DTSTAMP:20260424T052430Z
SUMMARY:Soirée Bhajans (chants sacrés Indiens) à Perpignan
DESCRIPTION:Les bhajans (du sanskrit bhajana « adoration ») sont des
  chants sacrés dévotionnels hindou à l'intention de diverses divini
 tés (Shiva, Durga, Ganesh, Krishna,...), des personnages religieux (G
 uru) ou des Avatars.  Ces divinités symboliques représentent en fait
  des qualités, des parties de Nous, que nous nourrissons, faisons gra
 ndir en nous, par l'invocation, le chant humble et sincère du Coeur V
 aillant, vibrant, aimant que Nous sommes!  Ces chants ont, pour certai
 ns, une origine très ancienne, d'autres sont des créations contempor
 aines, et seront interprétés à la guitare, accompagné par une shru
 ti box!  Ces Sessions ou Soirées sont un temps bénis de célébratio
 n et de reliance avec Soi, avec le Tout. Vous serez invités à laisse
 r chanter votre Cœur, en toute simplicité, dans la détente intérie
 ure et la Joie d'être, ensemble.  La Force tranquille et l'harmonie d
 e groupe, nous permettra de nous relier les uns les autres et de recev
 oir dans l'intimité de notre Cœur, les énergies mises en mouvement 
 grâce à nos chants/prières sincères.   Horaires: 20h à 22h  Parti
 cipation demandée pour la session: 10 euros   Inscription nécessaire
  (places limitées) par mail ou sms au 06 24 34 44 24 ou jesuis999@gma
 il.com   Nous vous serions reconnaissant de partager l'information dan
 s vos réseaux et avec vos amis!   Bienvenue à tous!\n  Entretiens in
 dividuels possible les vendredi 1er et lundi 4 Août avec Yann (rêves
  éveillés, massage intuitif, coaching holistique personnalisé,...) 
 ou avec Awen (soins énergétique, hypnose, mouvements oculaires, clea
 n langage,...)   plus d'infos sur nos sites internet:  WWW.CONSCIENCED
 UCOEUR.COM  WWW.SPIRALEDESENS.FR  Yann et Awen\n\nPour plus d'informat
 ion, aller sur https://epanews.fr/events/soir-e-bhajans-chants-sacr-s-
 indiens-perpignan
DTSTART;TZID=Europe/Paris:20140807T200000
DTEND;TZID=Europe/Paris:20140807T220000
CATEGORIES:66
LOCATION:à Perpignan, Salle Créa-Harmonie
WEBSITE:http://www.conscienceducoeur.com
URL:http://www.conscienceducoeur.com
CONTACT:06 24 34 44 24
ORGANIZER;CN="Conscience du Coeur":https://epanews.fr/profile/Conscien
 ceduCoeur
ATTACH;FMTTYPE="image/jpeg":http://storage.ning.com/topology/rest/1.0/
 file/get/1663173516?profile=original
ATTENDEE;ROLE=REQ-PARTICIPANT;PARTSTAT=ACCEPTED;RSVP=TRUE;CN="Conscien
 ce du Coeur":https://epanews.fr/profile/ConscienceduCoeur
END:VEVENT
END:VCALENDAR
