BEGIN:VCALENDAR
PRODID:NingEventWidget-v1
VERSION:2.0
METHOD:PUBLISH
BEGIN:VTIMEZONE
TZID:Europe/Paris
X-LIC-LOCATION:Europe/Paris
BEGIN:DAYLIGHT
TZOFFSETFROM:+0100
TZOFFSETTO:+0200
TZNAME:CEST
DTSTART:19700329T020000
RRULE:FREQ=YEARLY;BYMONTH=3;BYDAY=-1SU
END:DAYLIGHT
BEGIN:STANDARD
TZOFFSETFROM:+0200
TZOFFSETTO:+0100
TZNAME:CET
DTSTART:19701025T030000
RRULE:FREQ=YEARLY;BYMONTH=10;BYDAY=-1SU
END:STANDARD
END:VTIMEZONE
BEGIN:VEVENT
UID:2485226:Event:1920031
DTSTAMP:20260425T130644Z
SUMMARY:Soirée Bhajans (chants sacrés dévotionnels Indiens) à Pari
 s
DESCRIPTION:Les bhajans (du sanskrit bhajana « adoration ») sont des
  chants sacrés dévotionnels hindou à l'intention de diverses divini
 tés (Shiva, Durga, Ganesh, Krishna,...), des personnages religieux (G
 uru) ou des Avatars.  Ces divinités symbolique représente en fait de
 s qualités, des parties de Nous, que nous nourrissons, faisons grandi
 r en nous, par l'invocation, le chant humble et sincère du Coeur Vail
 lant, vibrant, aimant que Nous sommes!  Ces Sessions ou Soirées sont 
 un temps bénis de célébration et de reliance avec Soi, avec le Tout
 . Vous serez invités à laisser chanter votre Coeur, en toute simplic
 ité, dans la détente intérieure et la Joie d'être, ensemble.  La F
 orce tranquille et l'harmonie de groupe, nous permettra de nous relier
  les uns les autres et de recevoir dans l'intimité de notre Coeur, le
 s énergies mises en mouvement grâce à nos chants/prières sincères
 .  Horaires: 20h à 22h  Participation demandée pour la session: Plei
 n/Réduit: 15/10 euros   Inscription nécessaire (places limitées) pa
 r mail ou sms au 06 24 34 44 24 ou conscienceducoeur999@gmail.com  Mer
 ci de partager l'info dans vos réseaux et avec vos amis!    Bienvenue
  à tous!  Yann  site: WWW.CONSCIENCEDUCOEUR.COM\n Page Facebook: Cons
 cienceducoeur999  Accompagnement individuel sur Paris:  Rêves éveill
 és, massage énergétique, Reconnexion, Soin énergétiques, Accompag
 nement Holistique personnalisé, Accompagnement en fin de Vie,...  Tar
 ifs Plein/ Réduit: 70/50 euros (environ 1h30)\n\nPour plus d'informat
 ion, aller sur https://epanews.fr/events/soir-e-bhajans-chants-sacr-s-
 d-votionnels-indiens-paris
DTSTART;TZID=Europe/Paris:20140523T200000
DTEND;TZID=Europe/Paris:20140523T220000
CATEGORIES:75
LOCATION:à Paris, à l'Espace DIVYAN
WEBSITE:http://www.conscienceducoeur.com
URL:http://www.conscienceducoeur.com
CONTACT:0624344424
ORGANIZER;CN="Conscience du Coeur":https://epanews.fr/profile/Conscien
 ceduCoeur
ATTACH;FMTTYPE="image/jpeg":http://storage.ning.com/topology/rest/1.0/
 file/get/1663134614?profile=original
ATTENDEE;ROLE=REQ-PARTICIPANT;PARTSTAT=ACCEPTED;RSVP=TRUE;CN="Conscien
 ce du Coeur":https://epanews.fr/profile/ConscienceduCoeur
END:VEVENT
END:VCALENDAR
