BEGIN:VCALENDAR
PRODID:NingEventWidget-v1
VERSION:2.0
METHOD:PUBLISH
BEGIN:VTIMEZONE
TZID:Europe/Paris
X-LIC-LOCATION:Europe/Paris
BEGIN:DAYLIGHT
TZOFFSETFROM:+0100
TZOFFSETTO:+0200
TZNAME:CEST
DTSTART:19700329T020000
RRULE:FREQ=YEARLY;BYMONTH=3;BYDAY=-1SU
END:DAYLIGHT
BEGIN:STANDARD
TZOFFSETFROM:+0200
TZOFFSETTO:+0100
TZNAME:CET
DTSTART:19701025T030000
RRULE:FREQ=YEARLY;BYMONTH=10;BYDAY=-1SU
END:STANDARD
END:VTIMEZONE
BEGIN:VEVENT
UID:2485226:Event:1370565
DTSTAMP:20260421T155138Z
SUMMARY:SoirÃ©e Bhajans Buddha Purnima
DESCRIPTION:Bonjour Ã  toutes et tous,\n\nÂ Ce Samedi 25 mai, Ã  l'occ
 asion de la cÃ©lÃ©bration de Buddha Purnima (anniversaire de Bouddha)Â
  aura lieu une soirÃ©e bhajans (chants sacrÃ©s indiens: voix, tablas, 
 tambourin), proposÃ©e par un groupe qui se produit depuis plusieurs an
 nÃ©es lors de la venue du sage indien Sri TathÃ¢ta.\n\nNous vous invit
 ons Ã  partager avec nous un moment de joie et de fraternitÃ©.\n\nVous
  Ãªtes toutes et tous les bienvenu(e)s!\n\nÂ \n\nParticipation aux fra
 is de salle 5â‚¬\n\nÂ \n\n Association Expansion de Conscience\n\n\nPo
 ur plus d'information, aller sur https://epanews.fr/events/soir-e-bhaj
 ans-buddha-purnima
DTSTART;TZID=Europe/Paris:20130525T193000
DTEND;TZID=Europe/Paris:20130525T213000
CATEGORIES:75
LOCATION:Paris
WEBSITE:http://www.expansiondeconscience.org
URL:http://www.expansiondeconscience.org
CONTACT:Indrani : 06.72.96.90.49
ORGANIZER;CN=musiqueclemennt:https://epanews.fr/profile/musiqueclemenn
 t
ATTACH;FMTTYPE="image/jpeg":http://storage.ning.com/topology/rest/1.0/
 file/get/1662844159?profile=original
ATTENDEE;ROLE=REQ-PARTICIPANT;PARTSTAT=ACCEPTED;RSVP=TRUE;CN=musiquecl
 emennt:https://epanews.fr/profile/musiqueclemennt
END:VEVENT
END:VCALENDAR
