BEGIN:VCALENDAR
PRODID:NingEventWidget-v1
VERSION:2.0
METHOD:PUBLISH
BEGIN:VTIMEZONE
TZID:Europe/Paris
X-LIC-LOCATION:Europe/Paris
BEGIN:DAYLIGHT
TZOFFSETFROM:+0100
TZOFFSETTO:+0200
TZNAME:CEST
DTSTART:19700329T020000
RRULE:FREQ=YEARLY;BYMONTH=3;BYDAY=-1SU
END:DAYLIGHT
BEGIN:STANDARD
TZOFFSETFROM:+0200
TZOFFSETTO:+0100
TZNAME:CET
DTSTART:19701025T030000
RRULE:FREQ=YEARLY;BYMONTH=10;BYDAY=-1SU
END:STANDARD
END:VTIMEZONE
BEGIN:VEVENT
UID:2485226:Event:1947690
DTSTAMP:20260419T140926Z
SUMMARY:SoirÃ©e Bhajans Ã  Vincennes ou ds le 18Ã¨me s'il pleut
DESCRIPTION:Pour info, cette soirÃ©e sera la derniÃ¨re session Bhajans
  de l'Ã©tÃ©, la prochaine aura lieu en Septembre! :)   Les bhajans (du
  sanskrit bhajana Â« adoration Â») sont des chants sacrÃ©s dÃ©votionne
 ls hindou Ã  l'intention de diverses divinitÃ©s (Shiva, Durga, Ganesh,
  Krishna,...), des personnages religieux (Guru) ou des Avatars.  Ces d
 ivinitÃ©s symbolique reprÃ©sente en fait des qualitÃ©s, des parties de
  Nous, que nous nourrissons, faisons grandir en nous, par l'invocation
 , le chant humble et sincÃ¨re du Coeur Vaillant, vibrant, aimant que N
 ous sommes!  Ces chants ont, pour certains, une origine trÃ¨s ancienne
 , d'autres sont des crÃ©ations contemporaines, et seront interprÃ©tÃ©s
  Ã  la guitare, accompagnÃ© par une shruti box!  Ces Sessions ou SoirÃ
 ©es sont un temps bÃ©nis de cÃ©lÃ©bration et de reliance avec Soi, ave
 c le Tout. Vous serez invitÃ©s Ã  laisser chanter votre CÅ“ur, en tout
 e simplicitÃ©, dans la dÃ©tente intÃ©rieure et la Joie d'Ãªtre, ensemb
 le.  La Force tranquille et l'harmonie de groupe, nous permettra de no
 us relier les uns les autres et de recevoir dans l'intimitÃ© de notre 
 CÅ“ur, les Ã©nergies mises en mouvement grÃ¢ce Ã  nos chants/priÃ¨res 
 sincÃ¨res.   Le RDV est Ã  19h30 prÃ©cises devant la station de mÃ©tro
  \"ChÃ¢teau de Vincennes\" sortie 2. Le groupe partira Ã  19h45 du lie
 u de RDV. L'endroit choisis pour la session est Ã  moins de 15 mn de m
 arche, Ã§a fera une balade, respirer l'air presque frais de la banlieu
 e de Paris ;)  S'il pleut la session aura lieu dans le 18Ã¨me, au 67 r
 ue du Mont Cenis, mÃ©tro Jules Joffrin (s'inscrire pour obtenir le cod
 e de la porte d'entrÃ©e!). Dans ce cas, merci d'arriver vers 19h45 pou
 r pouvoir commencer Ã  l'heure! :)    Horaires: 20h Ã  22h  Participat
 ion demandÃ©e pour la session: Plein/RÃ©duit: 15/10 euros   Inscriptio
 n nÃ©cessaire (places limitÃ©es) par mail ou sms au 06 24 34 44 24 ou 
 jesuis999@gmail.com  Merci de partager l'info dans vos rÃ©seaux et ave
 c vos amis!   Bienvenue Ã  tous!  Yann\n\nPour plus d'information, all
 er sur https://epanews.fr/events/soir-e-bhajans-au-bois-de-vincennes
DTSTART;TZID=Europe/Paris:20140711T200000
DTEND;TZID=Europe/Paris:20140711T220000
CATEGORIES:75
LOCATION:Ã  Paris,au Bois de Vincennes (RDV Ã  19h30 prÃ©cises devant 
 mÃ©tro \"chateau de Vincennes\")
WEBSITE:http://www.conscienceducoeur.com
URL:http://www.conscienceducoeur.com
CONTACT:0624344424
ORGANIZER;CN="Conscience du Coeur":https://epanews.fr/profile/Conscien
 ceduCoeur
ATTACH;FMTTYPE="image/jpeg":http://storage.ning.com/topology/rest/1.0/
 file/get/1663156999?profile=original
ATTENDEE;ROLE=REQ-PARTICIPANT;PARTSTAT=ACCEPTED;RSVP=TRUE;CN="Conscien
 ce du Coeur":https://epanews.fr/profile/ConscienceduCoeur
END:VEVENT
END:VCALENDAR
