BEGIN:VCALENDAR
PRODID:NingEventWidget-v1
VERSION:2.0
METHOD:PUBLISH
BEGIN:VTIMEZONE
TZID:Europe/Paris
X-LIC-LOCATION:Europe/Paris
BEGIN:DAYLIGHT
TZOFFSETFROM:+0100
TZOFFSETTO:+0200
TZNAME:CEST
DTSTART:19700329T020000
RRULE:FREQ=YEARLY;BYMONTH=3;BYDAY=-1SU
END:DAYLIGHT
BEGIN:STANDARD
TZOFFSETFROM:+0200
TZOFFSETTO:+0100
TZNAME:CET
DTSTART:19701025T030000
RRULE:FREQ=YEARLY;BYMONTH=10;BYDAY=-1SU
END:STANDARD
END:VTIMEZONE
BEGIN:VEVENT
UID:2485226:Event:1623671
DTSTAMP:20260424T084251Z
SUMMARY:Soirée Bhajans
DESCRIPTION:Bonjour à toutes et tous,\nLa prochaine soirée de chant
 s sacrés indiens aura lieu le samedi 23 novembre.  Vous y retrouver
 ez le groupe qui accompagne le sage indien Sri Tathâta lors de ses 
 tournées européennes. Au programme: chants sacrés rythmés au sein
  des tablas et du tambourin, qui nous entraîneront dans un élan de 
 joie et de fraternité !\nVous êtes toutes et tous les bienvenu(e)s.
 \nParticipation : 5€ adhérents, 8€ non adhérents\nInscription pa
 r mail : expansiondeconscience@yahoo.fr\nOu\nPar téléphone au 06.7
 2.96.90.49\nAssociation Expansion de Conscience\n\nPour plus d'informa
 tion, aller sur https://epanews.fr/events/soir-e-bhajans-5
DTSTART;TZID=Europe/Paris:20131123T193000
DTEND;TZID=Europe/Paris:20131123T213000
CATEGORIES:75
LOCATION:Centre Yogsansara,  Métro Porte de Vincennes
WEBSITE:http://www.expansiondeconscience.org
URL:http://www.expansiondeconscience.org
CONTACT:Renseignements et inscriptions, Indrani : 06.72.96.90.49
ORGANIZER;CN=musiqueclemennt:https://epanews.fr/profile/musiqueclemenn
 t
ATTACH;FMTTYPE="image/jpeg":http://storage.ning.com/topology/rest/1.0/
 file/get/1662968110?profile=original
ATTENDEE;ROLE=REQ-PARTICIPANT;PARTSTAT=ACCEPTED;RSVP=TRUE;CN=musiquecl
 emennt:https://epanews.fr/profile/musiqueclemennt
END:VEVENT
END:VCALENDAR
