BEGIN:VCALENDAR
PRODID:NingEventWidget-v1
VERSION:2.0
METHOD:PUBLISH
BEGIN:VTIMEZONE
TZID:Europe/Paris
X-LIC-LOCATION:Europe/Paris
BEGIN:DAYLIGHT
TZOFFSETFROM:+0100
TZOFFSETTO:+0200
TZNAME:CEST
DTSTART:19700329T020000
RRULE:FREQ=YEARLY;BYMONTH=3;BYDAY=-1SU
END:DAYLIGHT
BEGIN:STANDARD
TZOFFSETFROM:+0200
TZOFFSETTO:+0100
TZNAME:CET
DTSTART:19701025T030000
RRULE:FREQ=YEARLY;BYMONTH=10;BYDAY=-1SU
END:STANDARD
END:VTIMEZONE
BEGIN:VEVENT
UID:2485226:Event:1420714
DTSTAMP:20260422T133948Z
SUMMARY:Soirée Bhajans
DESCRIPTION:Bonjour à toutes et tous,\nSamedi 29 juin, célèbrons en
 semble l'arrivée de l'été lors de la dernière soirée bhajans (c
 hants sacrés indiens: voix, tablas, tambourin) de la saison, en prés
 ence du groupe qui se produit depuis plusieurs années lors de la venu
 e du sage indien Sri Tathâta.\nNous vous invitons à partager avec no
 us un moment de joie et de fraternité.\nVous êtes toutes et tous les
  bienvenu(e)s!\n \nParticipation aux frais de salle 5€\n \nhttp://
 www.expansiondeconscience.org\n \nAssociation Expansion de Conscience
 \n \n\n\n\nPour plus d'information, aller sur https://epanews.fr/even
 ts/soir-e-bhajans-2
DTSTART;TZID=Europe/Paris:20130629T193000
DTEND;TZID=Europe/Paris:20130629T213000
CATEGORIES:75
LOCATION:Paris
WEBSITE:http://www.expansiondeconscience.org
URL:http://www.expansiondeconscience.org
CONTACT:Indrani : 06.72.96.90.49
ORGANIZER;CN=musiqueclemennt:https://epanews.fr/profile/musiqueclemenn
 t
ATTACH;FMTTYPE="image/jpeg":http://storage.ning.com/topology/rest/1.0/
 file/get/1662869637?profile=original
ATTENDEE;ROLE=REQ-PARTICIPANT;PARTSTAT=ACCEPTED;RSVP=TRUE;CN=musiquecl
 emennt:https://epanews.fr/profile/musiqueclemennt
END:VEVENT
END:VCALENDAR
