BEGIN:VCALENDAR
PRODID:NingEventWidget-v1
VERSION:2.0
METHOD:PUBLISH
BEGIN:VTIMEZONE
TZID:Europe/Paris
X-LIC-LOCATION:Europe/Paris
BEGIN:DAYLIGHT
TZOFFSETFROM:+0100
TZOFFSETTO:+0200
TZNAME:CEST
DTSTART:19700329T020000
RRULE:FREQ=YEARLY;BYMONTH=3;BYDAY=-1SU
END:DAYLIGHT
BEGIN:STANDARD
TZOFFSETFROM:+0200
TZOFFSETTO:+0100
TZNAME:CET
DTSTART:19701025T030000
RRULE:FREQ=YEARLY;BYMONTH=10;BYDAY=-1SU
END:STANDARD
END:VTIMEZONE
BEGIN:VEVENT
UID:2485226:Event:2688797
DTSTAMP:20260421T071100Z
SUMMARY:Soirée -Atelier : Vies antérieures avec démonstrations, par
  Véronique
DESCRIPTION:Inscription obligatoire auprès de Source du bonheur au 04
  11 75 16 85 ou 06 77 16 31 11Participation 20€ (durée environ 3h)V
 éronique a le plaisir de vous présenter et de vous donner à vivre d
 ifférents voyages guidés, passion depuis plus de vingt années...- C
 omment se déroule une séance, de semi hypnose, sous vos yeux avec l'
 aide du pendule, ancrage des auras et chakras.- Les différents types 
 de voyages possibles : * Réminiscences des vies antérieures, vies h
 istoriques, ou passé de votre vie actuelle afin de libérer des phobi
 es, discernement et prise de conscience dans cette réalité actuelle
 .* Rencontre des chers disparus, vous recevrez astralement leur prése
 nce pour honorer et apaiser;* Perception des fées, ondines, salamandr
 es et nains dans leur dimension afin que vous puissiez les voir aussi 
 dans notre réalité.* Voyage initiatique, vos guides vous accompagner
 ont là où vous devez aller, dans le juste ordre cosmique... (Atlanti
 de – Lémurie - Sirius ...).- Les bienfaits des expansions de consci
 ence, ou comment voir à partir d'une réalité supérieure notre quot
 idien de vie.\n\nPour plus d'information, aller sur https://epanews.fr
 /events/soir-e-atelier-vies-ant-rieures-avec-d-monstrations-par-v-roni
 que
DTSTART;TZID=Europe/Paris:20161003T190000
DTEND;TZID=Europe/Paris:20161003T220000
CATEGORIES:34
LOCATION:montpellier centre
WEBSITE:http://www.sourcedubonheur.fr
URL:http://www.sourcedubonheur.fr
CONTACT:0411751685
ORGANIZER;CN=sb34:https://epanews.fr/profile/sb34
ATTACH;FMTTYPE="image/jpeg":http://storage.ning.com/topology/rest/1.0/
 file/get/1663593480?profile=original
ATTENDEE;ROLE=REQ-PARTICIPANT;PARTSTAT=ACCEPTED;RSVP=TRUE;CN=sb34:http
 s://epanews.fr/profile/sb34
END:VEVENT
END:VCALENDAR
