BEGIN:VCALENDAR
PRODID:NingEventWidget-v1
VERSION:2.0
METHOD:PUBLISH
BEGIN:VTIMEZONE
TZID:Europe/Paris
X-LIC-LOCATION:Europe/Paris
BEGIN:DAYLIGHT
TZOFFSETFROM:+0100
TZOFFSETTO:+0200
TZNAME:CEST
DTSTART:19700329T020000
RRULE:FREQ=YEARLY;BYMONTH=3;BYDAY=-1SU
END:DAYLIGHT
BEGIN:STANDARD
TZOFFSETFROM:+0200
TZOFFSETTO:+0100
TZNAME:CET
DTSTART:19701025T030000
RRULE:FREQ=YEARLY;BYMONTH=10;BYDAY=-1SU
END:STANDARD
END:VTIMEZONE
BEGIN:VEVENT
UID:2485226:Event:2689219
DTSTAMP:20260422T111027Z
SUMMARY:Soirée -Atelier : Initiation à l'astrologie, par Véronique
DESCRIPTION:Inscription obligatoire auprès de Source du bonheur au 04
  11 75 16 85 ou 06 77 16 31 11 Participation 20€ (durée environ 3h)
   Votre Ciel de naissance est votre mandala personnel, qui se dévoile
 ra à vous, durant cette étude astrologique.  Veuillez communiquer à
  Karine votre date de naissance, avec heure et lieu de naissance (trè
 s important)  Vous repérerez sur votre propre carte céleste : - Les 
 planètes individuelles (mercure-venus-mars-Jupiter-saturne) et les pl
 anètes collectives : Uranus-Neptune-pluton. - La lune, liée à votre
  domaine de vie pratique. - Les 12 signes du zodiaque, tracent la cour
 se du soleil et seront une méditation pour chaque incarnation. - Que 
 veut dire s'incarner en bélier, en taureau, gémeaux ... - Les 12 mai
 sons où secteurs où tout se passe. - Décodage de votre ciel de nais
 sance : que signifie votre lune en sagittaire et en maison 11 par exem
 ple.... - Votre ascendant, ou but immédiat de votre âme pour cette i
 ncarnation. - Les aspects ou jeu des planètes entre elles.  Cette pre
 mière étude astrologique nous permettra de nous découvrir, nous con
 naître et nous harmoniser au flux cosmique.\n\nPour plus d'informatio
 n, aller sur https://epanews.fr/events/soir-e-atelier-expos-et-pratiqu
 es-des-prieres-par-v-ronique
DTSTART;TZID=Europe/Paris:20161024T190000
DTEND;TZID=Europe/Paris:20161024T220000
CATEGORIES:34
LOCATION:montpellier centre
WEBSITE:http://www.sourcedubonheur.fr
URL:http://www.sourcedubonheur.fr
CONTACT:0411751685
ORGANIZER;CN=sb34:https://epanews.fr/profile/sb34
ATTACH;FMTTYPE="image/jpeg":http://storage.ning.com/topology/rest/1.0/
 file/get/1663600359?profile=original
ATTENDEE;ROLE=REQ-PARTICIPANT;PARTSTAT=ACCEPTED;RSVP=TRUE;CN=sb34:http
 s://epanews.fr/profile/sb34
END:VEVENT
END:VCALENDAR
