BEGIN:VCALENDAR
PRODID:NingEventWidget-v1
VERSION:2.0
METHOD:PUBLISH
BEGIN:VTIMEZONE
TZID:Europe/Paris
X-LIC-LOCATION:Europe/Paris
BEGIN:DAYLIGHT
TZOFFSETFROM:+0100
TZOFFSETTO:+0200
TZNAME:CEST
DTSTART:19700329T020000
RRULE:FREQ=YEARLY;BYMONTH=3;BYDAY=-1SU
END:DAYLIGHT
BEGIN:STANDARD
TZOFFSETFROM:+0200
TZOFFSETTO:+0100
TZNAME:CET
DTSTART:19701025T030000
RRULE:FREQ=YEARLY;BYMONTH=10;BYDAY=-1SU
END:STANDARD
END:VTIMEZONE
BEGIN:VEVENT
UID:2485226:Event:1700513
DTSTAMP:20260423T144206Z
SUMMARY:soirée animation tarot énergétique
DESCRIPTION:entrer en relation avec les arcanes du tarot de marseille,
  dans ses profondeurs et recevoir leur message\n\nPour plus d'informat
 ion, aller sur https://epanews.fr/events/soir-e-animation-tarot-nerg-t
 ique
DTSTART;TZID=Europe/Paris:20140117T190000
DTEND;TZID=Europe/Paris:20140117T210000
CATEGORIES:69004
LOCATION:CENTRE HOLISTE
WEBSITE:http://www.avancer.weebly.com
URL:http://www.avancer.weebly.com
CONTACT:
ORGANIZER;CN=Aknae:https://epanews.fr/profile/Aknae
ATTACH;FMTTYPE="image/jpeg":
ATTENDEE;ROLE=REQ-PARTICIPANT;PARTSTAT=ACCEPTED;RSVP=TRUE;CN=Aknae:htt
 ps://epanews.fr/profile/Aknae
END:VEVENT
END:VCALENDAR
