BEGIN:VCALENDAR
PRODID:NingEventWidget-v1
VERSION:2.0
METHOD:PUBLISH
BEGIN:VTIMEZONE
TZID:Europe/Paris
X-LIC-LOCATION:Europe/Paris
BEGIN:DAYLIGHT
TZOFFSETFROM:+0100
TZOFFSETTO:+0200
TZNAME:CEST
DTSTART:19700329T020000
RRULE:FREQ=YEARLY;BYMONTH=3;BYDAY=-1SU
END:DAYLIGHT
BEGIN:STANDARD
TZOFFSETFROM:+0200
TZOFFSETTO:+0100
TZNAME:CET
DTSTART:19701025T030000
RRULE:FREQ=YEARLY;BYMONTH=10;BYDAY=-1SU
END:STANDARD
END:VTIMEZONE
BEGIN:VEVENT
UID:2485226:Event:2267382
DTSTAMP:20260422T110719Z
SUMMARY:Soins sonothérapie et magnétisme
DESCRIPTION:voir le flyer\nSoins individuels\navec Catherine DARBORD e
 t Marc RESCH\n \nL'alliance des vibrations sonores et énergétiques 
 procure un soin complet, régénérant, ressourçant et équilibrant. 
 Les sons thérapeutiques permettent de fluidifier les énergies et apa
 iser le mental. Le magnétisme renforce l'énergie vitale et stimule l
 es capacités naturelles d'auto-guérison du corps. Les bienfaits sont
  profonds et durables, tant au niveau physique que psychique.\n \n\nP
 our plus d'information, aller sur https://epanews.fr/events/soins-sono
 th-rapie-et-magn-tisme
DTSTART;TZID=Europe/Paris:20150403T103000
DTEND;TZID=Europe/Paris:20150403T173000
CATEGORIES:30
LOCATION:Nîmes
WEBSITE:http://www.vibrationwakanda.com/detail-93.htm
URL:http://www.vibrationwakanda.com/detail-93.htm
CONTACT:06.33.61.68.21.
ORGANIZER;CN="Catherine DARBORD":https://epanews.fr/profile/CatherineD
 ARBORD
ATTACH;FMTTYPE="image/jpeg":http://storage.ning.com/topology/rest/1.0/
 file/get/1663355961?profile=original
ATTENDEE;ROLE=REQ-PARTICIPANT;PARTSTAT=ACCEPTED;RSVP=TRUE;CN="Catherin
 e DARBORD":https://epanews.fr/profile/CatherineDARBORD
END:VEVENT
END:VCALENDAR
