BEGIN:VCALENDAR
PRODID:NingEventWidget-v1
VERSION:2.0
METHOD:PUBLISH
BEGIN:VTIMEZONE
TZID:Europe/Paris
X-LIC-LOCATION:Europe/Paris
BEGIN:DAYLIGHT
TZOFFSETFROM:+0100
TZOFFSETTO:+0200
TZNAME:CEST
DTSTART:19700329T020000
RRULE:FREQ=YEARLY;BYMONTH=3;BYDAY=-1SU
END:DAYLIGHT
BEGIN:STANDARD
TZOFFSETFROM:+0200
TZOFFSETTO:+0100
TZNAME:CET
DTSTART:19701025T030000
RRULE:FREQ=YEARLY;BYMONTH=10;BYDAY=-1SU
END:STANDARD
END:VTIMEZONE
BEGIN:VEVENT
UID:2485226:Event:2750539
DTSTAMP:20260422T182019Z
SUMMARY:Soin sonore et olfactif \"musique des chakras\"
DESCRIPTION:Soin Sonore et Olfactif\nsur la Musique Vibratoire© d' Er
 ik Nicollet (432HZ)\ndimanche 22 janvier à 17 h:\n\"MUSIQUES DES CHA
 KRAS\"\n(libération émotionnelle, guérison des mémoires cellulaire
 s et engrammes karmiques)\nà la salle\" La PEPINIERE\"\nRéservation 
 Obligatoire en envoyant un chèque à l'ordre de l'association Unisson
  661 vieux chemin d'hyères la Garde (en indiquant votre numéro de t
 él au dos du chèque)Tarif : 30 eurosPlaces Limitées : Tel : 06 82 6
 3 82 14Pour votre confort apporter un oreiller et une couverture. Merc
 i\n\nPour plus d'information, aller sur https://epanews.fr/events/soin
 -sonore-et-olfactif-musique-des-chakras
DTSTART;TZID=Europe/Paris:20170122T170000
DTEND;TZID=Europe/Paris:20170122T184500
CATEGORIES:83
LOCATION:661 vieux chemin d'hyères 83130 la Garde
WEBSITE:http://www.google.fr/maps/place/661+Vieux+Chemin+d'Hy%C3%A8res
 ,+83130+La+Garde/@43.1226071,6.0249596,17z/data=!4m5!3m4!1s0x12c918e2c
 b406213:0x9e33d75e17a2d100!8m2!3d43.1226071!4d6.0271483
URL:http://www.google.fr/maps/place/661+Vieux+Chemin+d'Hy%C3%A8res,+83
 130+La+Garde/@43.1226071,6.0249596,17z/data=!4m5!3m4!1s0x12c918e2cb406
 213:0x9e33d75e17a2d100!8m2!3d43.1226071!4d6.0271483
CONTACT:0682638214
ORGANIZER;CN=unisson:https://epanews.fr/profile/unisson
ATTACH;FMTTYPE="image/jpeg":http://storage.ning.com/topology/rest/1.0/
 file/get/1663624809?profile=original
ATTENDEE;ROLE=REQ-PARTICIPANT;PARTSTAT=ACCEPTED;RSVP=TRUE;CN=unisson:h
 ttps://epanews.fr/profile/unisson
END:VEVENT
END:VCALENDAR
