BEGIN:VCALENDAR
PRODID:NingEventWidget-v1
VERSION:2.0
METHOD:PUBLISH
BEGIN:VTIMEZONE
TZID:Europe/Paris
X-LIC-LOCATION:Europe/Paris
BEGIN:DAYLIGHT
TZOFFSETFROM:+0100
TZOFFSETTO:+0200
TZNAME:CEST
DTSTART:19700329T020000
RRULE:FREQ=YEARLY;BYMONTH=3;BYDAY=-1SU
END:DAYLIGHT
BEGIN:STANDARD
TZOFFSETFROM:+0200
TZOFFSETTO:+0100
TZNAME:CET
DTSTART:19701025T030000
RRULE:FREQ=YEARLY;BYMONTH=10;BYDAY=-1SU
END:STANDARD
END:VTIMEZONE
BEGIN:VEVENT
UID:2485226:Event:1691148
DTSTAMP:20260421T035328Z
SUMMARY:soin bien etre litho, reiki Usui; Karuna ect
DESCRIPTION:Je vous propose une séance de 2 heures environ de bien ê
 tre   à partir de 10 h, 14h15 et 16h30 soit 3 personnes et chacun son
  tour !    j'utilise les supports suivants : lithothérapie, fleurs de
  bach, reiki usui et karuna, ho'oponopono, bains dérivatifs ou autres
 , encens,   ne voulant pas avoir de soucis de réputation ou autre....
 je n'accepte que des femmes ou alors des hommes mais accompagnés (me 
 demander par Mp ou tel ) !    chez moi à mon domicile    les soins so
 nt faits sur une table de soin médicale    ce soin est théoriquement
  gratuit mais comme j'utilise des supports qui eux ne le sont pas je l
 aisse une cagnotte à votre disposition vous y mettrez ce que vous dé
 sirez.   Merci de respecter vos RDV , de vous excusez si vous pouvez p
 lus venir ! Si vous ne pouvez plus c'est pas grave mais au moins que j
 e le sache que j'attende pas pour rien !\n\nPour plus d'information, a
 ller sur https://epanews.fr/events/soin-bien-etre-litho-reiki-usui-kar
 una-ect
DTSTART;TZID=Europe/Paris:20140211T100000
DTEND;TZID=Europe/Paris:20140211T190000
CATEGORIES:84
LOCATION:Mornas
WEBSITE:https://maps.google.com/maps?q=50+Chemin+des+Andrones,+Mornas,
 +France&hl=fr&ie=UTF8&ll=44.193305,4.730258&spn=0.004454,0.010568&sll=
 44.193289,4.730281&layer=c&cbp=13,166.84,,0,14.79&cbll=44.193302,4.730
 317&hnear=50+Chemin+des+Andrones,+84550+Mornas,+Vaucluse,+Provence-Alp
 es-C%C3%B4te+d%27Azur,+France&t=m&z=17&panoid=EJmrzzdm-8i_bqzPDjRe1Q
URL:https://maps.google.com/maps?q=50+Chemin+des+Andrones,+Mornas,+Fra
 nce&hl=fr&ie=UTF8&ll=44.193305,4.730258&spn=0.004454,0.010568&sll=44.1
 93289,4.730281&layer=c&cbp=13,166.84,,0,14.79&cbll=44.193302,4.730317&
 hnear=50+Chemin+des+Andrones,+84550+Mornas,+Vaucluse,+Provence-Alpes-C
 %C3%B4te+d%27Azur,+France&t=m&z=17&panoid=EJmrzzdm-8i_bqzPDjRe1Q
CONTACT:0629762946
ORGANIZER;CN="Véronique de Falco":https://epanews.fr/profile/Veroniqu
 edeFalco
ATTACH;FMTTYPE="image/jpeg":http://storage.ning.com/topology/rest/1.0/
 file/get/1662999652?profile=original
ATTENDEE;ROLE=REQ-PARTICIPANT;PARTSTAT=ACCEPTED;RSVP=TRUE;CN="Véroniq
 ue de Falco":https://epanews.fr/profile/VeroniquedeFalco
ATTENDEE;ROLE=REQ-PARTICIPANT;PARTSTAT=TENTATIVE;RSVP=TRUE;CN="Amis de
  Partage International":https://epanews.fr/profile/AmisdePartageIntern
 ational
ATTENDEE;ROLE=REQ-PARTICIPANT;PARTSTAT=TENTATIVE;RSVP=TRUE;CN=LOTUS:ht
 tps://epanews.fr/profile/LOTUS133
END:VEVENT
END:VCALENDAR
