BEGIN:VCALENDAR
PRODID:NingEventWidget-v1
VERSION:2.0
METHOD:PUBLISH
BEGIN:VTIMEZONE
TZID:Europe/Paris
X-LIC-LOCATION:Europe/Paris
BEGIN:DAYLIGHT
TZOFFSETFROM:+0100
TZOFFSETTO:+0200
TZNAME:CEST
DTSTART:19700329T020000
RRULE:FREQ=YEARLY;BYMONTH=3;BYDAY=-1SU
END:DAYLIGHT
BEGIN:STANDARD
TZOFFSETFROM:+0200
TZOFFSETTO:+0100
TZNAME:CET
DTSTART:19701025T030000
RRULE:FREQ=YEARLY;BYMONTH=10;BYDAY=-1SU
END:STANDARD
END:VTIMEZONE
BEGIN:VEVENT
UID:2485226:Event:821342
DTSTAMP:20260422T004501Z
SUMMARY:soigner ses peurs par l'EFT
DESCRIPTION:De nombreuses peurs surgissent au plus mauvais moment. Bie
 n qu'elles soient puissantes et qu'elles vous handicapent , au fond de
  vous vous savez qu'elles n'ont aucune realite. l'EFTest un outil magi
 que qui vous permet de les reconnaître , de les accepter, et les lais
 ser partir dans l'amour pour être enfin libre.\nSTAGE PROPOSE PAR MIC
 HELE ELGARD\n\nPour plus d'information, aller sur https://epanews.fr/e
 vents/soigner-ses-peurs-par-l-eft
DTSTART;TZID=Europe/Paris:20120520T093000
DTEND;TZID=Europe/Paris:20120520T173000
CATEGORIES:83
LOCATION:TOULON
WEBSITE:http://reflexovie.fr
URL:http://reflexovie.fr
CONTACT:0651526487/ 0954550588
ORGANIZER;CN=danielstcyrsurmer:https://epanews.fr/profile/danielstcyrs
 urmer
ATTACH;FMTTYPE="image/jpeg":
ATTENDEE;ROLE=REQ-PARTICIPANT;PARTSTAT=ACCEPTED;RSVP=TRUE;CN=danielstc
 yrsurmer:https://epanews.fr/profile/danielstcyrsurmer
END:VEVENT
END:VCALENDAR
