BEGIN:VCALENDAR
PRODID:NingEventWidget-v1
VERSION:2.0
METHOD:PUBLISH
BEGIN:VTIMEZONE
TZID:Europe/Paris
X-LIC-LOCATION:Europe/Paris
BEGIN:DAYLIGHT
TZOFFSETFROM:+0100
TZOFFSETTO:+0200
TZNAME:CEST
DTSTART:19700329T020000
RRULE:FREQ=YEARLY;BYMONTH=3;BYDAY=-1SU
END:DAYLIGHT
BEGIN:STANDARD
TZOFFSETFROM:+0200
TZOFFSETTO:+0100
TZNAME:CET
DTSTART:19701025T030000
RRULE:FREQ=YEARLY;BYMONTH=10;BYDAY=-1SU
END:STANDARD
END:VTIMEZONE
BEGIN:VEVENT
UID:2485226:Event:61355
DTSTAMP:20260419T194239Z
SUMMARY:S'Offrir un Espace Temps SacrÃ© pour se Ressourcer
DESCRIPTION:Quel que soit les Ã©vÃ¨nements de vie,les dÃ©cisions prise
 s,l'essentiel est de considÃ©rer tous nos actes comme des supports d'Ã
 ©volution, vers la nature amoureuse de notre ÃŠtre.\nComment?\nCet ate
 lier vous propose des supports concrets de reconnexion avec le Coeur d
 e votre Soleil IntÃ©rieur,\nMouvements,relaxation, mÃ©ditation guidÃ©e
 ,massage, concert de bols tibÃ©tains et de cristal, tambour chamanique
 , gong, Sons et Chants SacrÃ©s\n\nPour plus d'information, aller sur h
 ttps://epanews.fr/events/soffrir-un-espace-temps-sacre
DTSTART;TZID=Europe/Paris:20100529T140000
DTEND;TZID=Europe/Paris:20100529T190000
CATEGORIES:68
LOCATION:Salle de Yoga et Relaxation Holistique
WEBSITE:http://yoga-relaxation-holistique.fr.gd
URL:http://yoga-relaxation-holistique.fr.gd
CONTACT:03 89 32 12 23
ORGANIZER;CN="Marie Kubler":https://epanews.fr/profile/MarieKubler
ATTACH;FMTTYPE="image/jpeg":http://storage.ning.com/topology/rest/1.0/
 file/get/1662299993?profile=original
ATTENDEE;ROLE=REQ-PARTICIPANT;PARTSTAT=ACCEPTED;RSVP=TRUE;CN="Marie Ku
 bler":https://epanews.fr/profile/MarieKubler
END:VEVENT
END:VCALENDAR
