BEGIN:VCALENDAR
PRODID:NingEventWidget-v1
VERSION:2.0
METHOD:PUBLISH
BEGIN:VTIMEZONE
TZID:Europe/Paris
X-LIC-LOCATION:Europe/Paris
BEGIN:DAYLIGHT
TZOFFSETFROM:+0100
TZOFFSETTO:+0200
TZNAME:CEST
DTSTART:19700329T020000
RRULE:FREQ=YEARLY;BYMONTH=3;BYDAY=-1SU
END:DAYLIGHT
BEGIN:STANDARD
TZOFFSETFROM:+0200
TZOFFSETTO:+0100
TZNAME:CET
DTSTART:19701025T030000
RRULE:FREQ=YEARLY;BYMONTH=10;BYDAY=-1SU
END:STANDARD
END:VTIMEZONE
BEGIN:VEVENT
UID:2485226:Event:302014
DTSTAMP:20260424T034735Z
SUMMARY:SMAR (Semaine Mondiale pour l'Accouchement RespectÃ©
DESCRIPTION:Accoucher selon mon choix du lieu, de la maniÃ¨re et des a
 ccompagnants\nÂ \nCinÃ©ma diagonal Montpellier\nÂ \nDans le cadre de l
 a semaine mondiale pour lâ€™accouchement respectÃ© (SMAR) initiÃ© par 
 lâ€™AFAR - Alliance francophone pour lâ€™accouchement respectÃ© -, lâ€
 ™association Â«Â Des mots mesdamesÂ Â» et le collectif Â«Â NaÃ®tre che
 z soiÂ Â» organisent deux projections au CinÃ©ma diagonal le jeudi 19 
 mai Ã  partir de 18H.\nÂ \nAu programme, les films documentairesÂ  Â«Â
  Home deliveryÂ Â» de Christine Tournadre, et Â«Â Hâ€™na, la mÃ¨re de 
 RÃ©o, accoucheuse villageoiseÂ Â», de Robert Cassan, J-P Jacob et Rach
 -Meda.\nÂ \nCette annÃ©e, le thÃ¨me de la SMAR Ã©tant Â«Â accoucher se
 lon mon choix du lieu, de la maniÃ¨re et des accompagnantsÂ Â», Â«Â Hâ
 €™na la mÃ¨re de RÃ©oÂ Â» nous emmÃ¨nera au Burkina Faso oÃ¹ nous dÃ©c
 ouvrirons le parcours dâ€™une sage-femme villageoise et le choix des f
 emmes qui dÃ©cident de ne pas sâ€™abandonner Ã  la technologie de lâ€™
 hÃ´pital mais dâ€™Ãªtre accompagnÃ©es traditionnellement. Nous irons e
 nsuite Ã  New York, vitrine de lâ€™avancÃ©e des technologies contempor
 aines, oÃ¹ trois femmes dÃ©cident dâ€™accoucher Ã  domicile avec la se
 ule assistance dâ€™une sage-femme. Marine, Nadegh et Melle traversent 
 pendant leur grossesse des hauts et des bas, des pÃ©riodes de certitud
 es mais aussi de doutes face aux choix qui sont les leurs. Â«Â Home De
 liveryÂ Â» trace le portrait intime de trois femmes qui se prÃ©parent 
 Ã  vivre un des moments les plus importants de leur vie. Au-delÃ  des 
 cultures, des choix communs et des questionnements semblables, ceux du
  respect du corps des femmes et de leurs libres choix Ã  en disposer.\
 nÂ \nProgrammeÂ :\n18HÂ : film documentaire Â«Â Hâ€™na, la mÃ¨re de RÃ
 ©o, accoucheuse villageoiseÂ Â», Jean Pierre Jacod, Robert Cassan et R
 ach meda.2009. Jomo production\n19HÂ : Â«Â Home deliveryÂ Â» documenta
 ire de Christine Tournadre. Une production Speakeasy Docs en coproduct
 ion avec EklekitkÂ Â»\n20H30Â : dÃ©bat causette\nTARIFSÂ : 5 euros par
  filmÂ ; 7 euros les 2.\nInfosÂ : 04 67 83 07 86\n\nPour plus d'inform
 ation, aller sur https://epanews.fr/events/smar-semaine-mondiale-pour
DTSTART;TZID=Europe/Paris:20110519T180000
DTEND;TZID=Europe/Paris:20110519T210000
CATEGORIES:34
LOCATION:CinÃ©ma Diagonal de Montpellier
WEBSITE:http://www.cinediagonal.com/
URL:http://www.cinediagonal.com/
CONTACT:04 67 83 07 86
ORGANIZER;CN=sophietheta:https://epanews.fr/profile/sophietheta
ATTACH;FMTTYPE="image/jpeg":
ATTENDEE;ROLE=REQ-PARTICIPANT;PARTSTAT=ACCEPTED;RSVP=TRUE;CN=sophiethe
 ta:https://epanews.fr/profile/sophietheta
END:VEVENT
END:VCALENDAR
