BEGIN:VCALENDAR
PRODID:NingEventWidget-v1
VERSION:2.0
METHOD:PUBLISH
BEGIN:VTIMEZONE
TZID:Europe/Paris
X-LIC-LOCATION:Europe/Paris
BEGIN:DAYLIGHT
TZOFFSETFROM:+0100
TZOFFSETTO:+0200
TZNAME:CEST
DTSTART:19700329T020000
RRULE:FREQ=YEARLY;BYMONTH=3;BYDAY=-1SU
END:DAYLIGHT
BEGIN:STANDARD
TZOFFSETFROM:+0200
TZOFFSETTO:+0100
TZNAME:CET
DTSTART:19701025T030000
RRULE:FREQ=YEARLY;BYMONTH=10;BYDAY=-1SU
END:STANDARD
END:VTIMEZONE
BEGIN:VEVENT
UID:2485226:Event:139409
DTSTAMP:20260421T055351Z
SUMMARY:Si vous aimez vous sentir bien chez vous...
DESCRIPTION:\nJe vous propose de participer à un stage d'initiation s
 imple aux principes du FENG SHUI. Ce stage vous prendra 2hrs de votre 
 temps par mois pendant 6 mois et ne vous coûtera que 20€ à chaque 
 cours(Voir dans ma page d' accueil mes propositions) Les horaires sont
  14h30 à 16h30 et un thé de bienvenue vous sera offert.\n\nPour plus
  d'information, aller sur https://epanews.fr/events/si-vous-aimez-vous
 -sentir-bien
DTSTART;TZID=Europe/Paris:20101030T130000
DTEND;TZID=Europe/Paris:20101030T140000
CATEGORIES:34, 30, 84, 66
LOCATION:Salle de danse \"La loge de l'avant-Scène\"
WEBSITE:
URL:
CONTACT:06 60 08 10 35
ORGANIZER;CN="Concept a Deco":https://epanews.fr/profile/ConceptaDeco
ATTACH;FMTTYPE="image/jpeg":
ATTENDEE;ROLE=REQ-PARTICIPANT;PARTSTAT=ACCEPTED;RSVP=TRUE;CN="Concept 
 a Deco":https://epanews.fr/profile/ConceptaDeco
END:VEVENT
END:VCALENDAR
