BEGIN:VCALENDAR
PRODID:NingEventWidget-v1
VERSION:2.0
METHOD:PUBLISH
BEGIN:VTIMEZONE
TZID:Europe/Paris
X-LIC-LOCATION:Europe/Paris
BEGIN:DAYLIGHT
TZOFFSETFROM:+0100
TZOFFSETTO:+0200
TZNAME:CEST
DTSTART:19700329T020000
RRULE:FREQ=YEARLY;BYMONTH=3;BYDAY=-1SU
END:DAYLIGHT
BEGIN:STANDARD
TZOFFSETFROM:+0200
TZOFFSETTO:+0100
TZNAME:CET
DTSTART:19701025T030000
RRULE:FREQ=YEARLY;BYMONTH=10;BYDAY=-1SU
END:STANDARD
END:VTIMEZONE
BEGIN:VEVENT
UID:2485226:Event:1351320
DTSTAMP:20260421T143416Z
SUMMARY:\"Si la Naturopathie m'était contée\" conférence
DESCRIPTION:\nAutour d'un verre, je vais vous conter la Naturopathie, 
 les bienfaits de cette science humaine et ce qu'elle peut vous apporte
 r.   Inscription soit par téléphone 0607980651, soit par mail audrey
 .rigaux@gmail.com.  entrée 10€.\n\nPour plus d'information, aller s
 ur https://epanews.fr/events/si-la-naturopathie-m-tait-cont-e-conf-ren
 ce
DTSTART;TZID=Europe/Paris:20130525T100000
DTEND;TZID=Europe/Paris:20130525T120000
CATEGORIES:59
LOCATION:près de Lille
WEBSITE:
URL:
CONTACT:
ORGANIZER;CN="Audrey Rigaux":https://epanews.fr/profile/AyZ
ATTACH;FMTTYPE="image/jpeg":
ATTENDEE;ROLE=REQ-PARTICIPANT;PARTSTAT=ACCEPTED;RSVP=TRUE;CN="Audrey R
 igaux":https://epanews.fr/profile/AyZ
END:VEVENT
END:VCALENDAR
