BEGIN:VCALENDAR
PRODID:NingEventWidget-v1
VERSION:2.0
METHOD:PUBLISH
BEGIN:VTIMEZONE
TZID:Europe/Paris
X-LIC-LOCATION:Europe/Paris
BEGIN:DAYLIGHT
TZOFFSETFROM:+0100
TZOFFSETTO:+0200
TZNAME:CEST
DTSTART:19700329T020000
RRULE:FREQ=YEARLY;BYMONTH=3;BYDAY=-1SU
END:DAYLIGHT
BEGIN:STANDARD
TZOFFSETFROM:+0200
TZOFFSETTO:+0100
TZNAME:CET
DTSTART:19701025T030000
RRULE:FREQ=YEARLY;BYMONTH=10;BYDAY=-1SU
END:STANDARD
END:VTIMEZONE
BEGIN:VEVENT
UID:2485226:Event:2943281
DTSTAMP:20260424T140701Z
SUMMARY:Shakti et Conscience pour les Messieurs
DESCRIPTION:Ma posture dans le stage est une position d’équilibre d
 es pôles.\nC’est une richesse absolument extraordinaire : vous per
 mettre d’aller à la rencontre de votre pôle masculin sans ignorer 
 le pôle féminin.\nAujourd’hui la condition d’homme demande à ê
 tre revisitée.\nPour un homme, la notion de Shakti est un cheminement
  qui lui demande d’explorer comment il se considère intérieurement
  et comment il est considéré socialement.\nPour que vous puissiez re
 ncontrer votre principe Masculin sereinement, il est nécessaire que v
 ous soyez dégagé de toute cette pression.\nDurant le stage j’œuvr
 e de manière à ce que vous puissiez aborder le pourquoi vous vous ê
 tes incarnés en principes masculins.\n\nPour découvrir ce stage et l
 es modalités pratiques, contactez-moi ou rendez-vous sur mon site :\n
 ego-et-conscience.com\n\nPour plus d'information, aller sur https://ep
 anews.fr/events/shakti-et-conscience-pour-les-messieurs
DTSTART;TZID=Europe/Paris:20181201T090000
DTEND;TZID=Europe/Paris:20181202T190000
CATEGORIES:77
LOCATION:Aux 4 Vents : entre Melun et Fontainebleau. à 50 min de Pari
 s en voiture, ou 35 mmin en transilien depuis gare de Lyon.
WEBSITE:https://www.google.fr/maps/place/Aux+Quatre+Vents/@48.4881815,
 2.5731554,14z/data=!4m8!1m2!2m1!1saux+4+vents,+villiers+en+bi%C3%A8re!
 3m4!1s0x47e5ee2664fbc329:0x750c228acb19f6af!8m2!3d48.4774236!4d2.59793
 92
URL:https://www.google.fr/maps/place/Aux+Quatre+Vents/@48.4881815,2.57
 31554,14z/data=!4m8!1m2!2m1!1saux+4+vents,+villiers+en+bi%C3%A8re!3m4!
 1s0x47e5ee2664fbc329:0x750c228acb19f6af!8m2!3d48.4774236!4d2.5979392
CONTACT:06 29 81 56 44
ORGANIZER:Lalitha Berton / ego-et-Conscience
ATTACH;FMTTYPE="image/jpeg":http://storage.ning.com/topology/rest/1.0/
 file/get/1663729189?profile=original
ATTENDEE;ROLE=REQ-PARTICIPANT;PARTSTAT=ACCEPTED;RSVP=TRUE;CN="Lalitha 
 Berton":https://epanews.fr/profile/egoetConscience
END:VEVENT
END:VCALENDAR
