BEGIN:VCALENDAR
PRODID:NingEventWidget-v1
VERSION:2.0
METHOD:PUBLISH
BEGIN:VTIMEZONE
TZID:Europe/Paris
X-LIC-LOCATION:Europe/Paris
BEGIN:DAYLIGHT
TZOFFSETFROM:+0100
TZOFFSETTO:+0200
TZNAME:CEST
DTSTART:19700329T020000
RRULE:FREQ=YEARLY;BYMONTH=3;BYDAY=-1SU
END:DAYLIGHT
BEGIN:STANDARD
TZOFFSETFROM:+0200
TZOFFSETTO:+0100
TZNAME:CET
DTSTART:19701025T030000
RRULE:FREQ=YEARLY;BYMONTH=10;BYDAY=-1SU
END:STANDARD
END:VTIMEZONE
BEGIN:VEVENT
UID:2485226:Event:1618673
DTSTAMP:20260423T150205Z
SUMMARY:Sexualité et spiritualité - La kundalini : Enchainement ou l
 ibération.
DESCRIPTION:Sexualité et spiritualité - La kundalini : Enchainement 
 ou libération.\nSoirée de partage autour du thème proposé.  Chacun
  est libre de participer à l'échange tout au long de la soirée.  Co
 mment acquérir un état de conscience et de vie dépourvu de toute do
 uleur et de cette confusion qui règne dans notre vie terrestre, limit
 ée et mortelle ?  Peut-on entrer dans un devenir sans fin ? Peut-on v
 ivre selon l'Esprit, et goûter à la félicité ?  Le terme \"Kundali
 ni\" désigne ce feu de l'esprit qui peut, sous certaines conditions, 
 enflammer l'axe nerveux cérébro-spinal (Ensemble du cerveau et de la
  moelle épinière).  Comment accueillir les forces de l'Esprit de la 
 vraie Vie?  Qui détient la bonne \"technique\"!? Tout le monde? Perso
 nne? Un maître? Une École des Mystères? L'Esprit lui-même?  L’É
 cole de la Rose-Croix d'Or s'appuie sur la capacité de notre temple i
 ntérieur à accueillir une force nouvelle : le feu originel de l'âme
 -esprit. Fin prévue de cet évènement : 20:45\nEntrée et boisson Le
  Philosophe : 10€\n\n\n\nPour plus d'information, aller sur https://
 epanews.fr/events/sexualit-et-spiritualit-la-kundalini-enchainement-ou
 -lib-ration-1
DTSTART;TZID=Europe/Paris:20131119T183000
DTEND;TZID=Europe/Paris:20131119T204500
CATEGORIES:06
LOCATION:Nice Librairie Le Philosophe
WEBSITE:http://toulon-nice.rose-croix-d-or.org/
URL:http://toulon-nice.rose-croix-d-or.org/
CONTACT:
ORGANIZER;CN="jean claude":https://epanews.fr/profile/Adamowski
ATTACH;FMTTYPE="image/jpeg":http://storage.ning.com/topology/rest/1.0/
 file/get/1662963834?profile=original
ATTENDEE;ROLE=REQ-PARTICIPANT;PARTSTAT=ACCEPTED;RSVP=TRUE;CN="jean cla
 ude":https://epanews.fr/profile/Adamowski
END:VEVENT
END:VCALENDAR
