BEGIN:VCALENDAR
PRODID:NingEventWidget-v1
VERSION:2.0
METHOD:PUBLISH
BEGIN:VTIMEZONE
TZID:Europe/Paris
X-LIC-LOCATION:Europe/Paris
BEGIN:DAYLIGHT
TZOFFSETFROM:+0100
TZOFFSETTO:+0200
TZNAME:CEST
DTSTART:19700329T020000
RRULE:FREQ=YEARLY;BYMONTH=3;BYDAY=-1SU
END:DAYLIGHT
BEGIN:STANDARD
TZOFFSETFROM:+0200
TZOFFSETTO:+0100
TZNAME:CET
DTSTART:19701025T030000
RRULE:FREQ=YEARLY;BYMONTH=10;BYDAY=-1SU
END:STANDARD
END:VTIMEZONE
BEGIN:VEVENT
UID:2485226:Event:1109619
DTSTAMP:20260421T155134Z
SUMMARY:Modification demandée
DESCRIPTION:Développement personnel;\nOutils et techniques pour prend
 re en main votre transformation.\nUne journée par mois: 9h30 à17h\n2
 6 Janvier  / 23 Février/ 23 Mars / 27 Avril / 25 Mai / 22 Juin 2013\
 n\nPour plus d'information, aller sur https://epanews.fr/events/sessio
 ns-evolutives
DTSTART;TZID=Europe/Paris:20130126T093000
DTEND;TZID=Europe/Paris:20130126T170000
CATEGORIES:34
LOCATION:RIOLS
WEBSITE:http://www.mariemetamorfosis.fr
URL:http://www.mariemetamorfosis.fr
CONTACT:0689163296
ORGANIZER;CN="Marie Grossiord":https://epanews.fr/profile/MarieGrossio
 rd
ATTACH;FMTTYPE="image/jpeg":http://storage.ning.com/topology/rest/1.0/
 file/get/1662734985?profile=original
ATTENDEE;ROLE=REQ-PARTICIPANT;PARTSTAT=ACCEPTED;RSVP=TRUE;CN="Marie Gr
 ossiord":https://epanews.fr/profile/MarieGrossiord
END:VEVENT
END:VCALENDAR
