BEGIN:VCALENDAR
PRODID:NingEventWidget-v1
VERSION:2.0
METHOD:PUBLISH
BEGIN:VTIMEZONE
TZID:Europe/Paris
X-LIC-LOCATION:Europe/Paris
BEGIN:DAYLIGHT
TZOFFSETFROM:+0100
TZOFFSETTO:+0200
TZNAME:CEST
DTSTART:19700329T020000
RRULE:FREQ=YEARLY;BYMONTH=3;BYDAY=-1SU
END:DAYLIGHT
BEGIN:STANDARD
TZOFFSETFROM:+0200
TZOFFSETTO:+0100
TZNAME:CET
DTSTART:19701025T030000
RRULE:FREQ=YEARLY;BYMONTH=10;BYDAY=-1SU
END:STANDARD
END:VTIMEZONE
BEGIN:VEVENT
UID:2485226:Event:150699
DTSTAMP:20260421T010303Z
SUMMARY:Session méditation - Nice Centre- 
DESCRIPTION:Prochaines sessions de méditation à Nice..\n\nMercredi 1
 7 Novembre 2010.\n(19h30-21h30)\n\nSi vous souhaitez en informer d'aut
 re amis, n'hésitez pas à faire passer ce message..\n\nParticipation 
 : 10 euros (rafraîchissement inclus)\n\nPossibilité de s'inscrire à
  un seul cours, par mois ou par trimestre (sachant qu 'il y aura 2 cou
 rs par mois pour commencer)\n\n(contacter céline pour plus d'info au 
 0662880669)\n\nDes soins sont souvent effectués durant la soirée, in
 dividuellement ou collectivement, si vous souhaitez apporter votre aid
 e à une personne en mal être\", n'hésitez pas à amener sa photo.\n
 \nAussi avec votre sourire, pensez à prendre une tenue confortable, u
 n coussin, une couverture pour les plus frileux, et une petite bouteil
 le d'eau.\n\nPlaces limitées (groupes de 6 maxi)...réservation conse
 illée\n\nL' une des vérités essentielles de l'enseigenement, du par
 tage à la méditation est que nous souhaitons tous mener une vie sain
 e . Et cela est possible.\n\nSi nous observons notre expérience direc
 tement dans tout ce qui change, nous découvrons toujours une dignité
  éveillée sous-jacente.\n\nC'est à cette présence saine et éveill
 ée que se présente nos partages à la méditation, c'est ce que je n
 omme la bonté fondamentale.\n\nCar nous avons tous en nous de la bont
 é et de la sagesse.. Et nous oeuvrons ensemble, dans ces soirées à 
 retrouver notre pure essence.\n\nCette sagesse ne peut surgir que lors
 que la confusion et les fixations de l'égo sont calmées par la prati
 que régulière d'une discipline contemplative. Et nous en apprécions
  dès lors les effets authentiques.\n\nJe vous propose un parcours com
 plet de pratiques, à travers plusieurs méditation.\n\nDes techniques
  qui me sont propres et et qui vous permettront de connaître détente
  et découverte de votre moi profond.\n\n1er cours : La symbolique des
  couleurs (utilisée dans les enseignements shambala, dans les techniq
 ues ayurvédiques et en relaxation)\n\n\n\n\nCéline TANIER\n(praticie
 nne en soins vibratoires, bio-énergéticienne)\n\nPour plus d'informa
 tion, aller sur https://epanews.fr/events/session-meditation-nice
DTSTART;TZID=Europe/Paris:20101117T193000
DTEND;TZID=Europe/Paris:20101117T213000
CATEGORIES:06
LOCATION:Association \"UN CHEMIN VERS SOI\"
WEBSITE:http://maps.google.com/maps?f=q&source=s_q&hl=fr&geocode=&q=Ni
 ce,+France+boissy+d'anglas&sll=43.703427,7.266266&sspn=0.224865,0.6145
 48&g=Nice,+France&ie=UTF8&hq=&hnear=Rue+Boissy+d'Anglas,+06000+Nice,+A
 lpes-Maritimes,+Provence-Alpes-C%C3%B4te+d'Azur,+France&ll=43.706663,7
 .273293&spn=0.028107,0.076818&z=14
URL:http://maps.google.com/maps?f=q&source=s_q&hl=fr&geocode=&q=Nice,+
 France+boissy+d'anglas&sll=43.703427,7.266266&sspn=0.224865,0.614548&g
 =Nice,+France&ie=UTF8&hq=&hnear=Rue+Boissy+d'Anglas,+06000+Nice,+Alpes
 -Maritimes,+Provence-Alpes-C%C3%B4te+d'Azur,+France&ll=43.706663,7.273
 293&spn=0.028107,0.076818&z=14
CONTACT:0662880669
ORGANIZER;CN="Céline TANIER":https://epanews.fr/profile/TANIERCeline
ATTACH;FMTTYPE="image/jpeg":http://storage.ning.com/topology/rest/1.0/
 file/get/1662359069?profile=original
ATTENDEE;ROLE=REQ-PARTICIPANT;PARTSTAT=ACCEPTED;RSVP=TRUE;CN="Céline 
 TANIER":https://epanews.fr/profile/TANIERCeline
END:VEVENT
END:VCALENDAR
