BEGIN:VCALENDAR
PRODID:NingEventWidget-v1
VERSION:2.0
METHOD:PUBLISH
BEGIN:VTIMEZONE
TZID:Europe/Paris
X-LIC-LOCATION:Europe/Paris
BEGIN:DAYLIGHT
TZOFFSETFROM:+0100
TZOFFSETTO:+0200
TZNAME:CEST
DTSTART:19700329T020000
RRULE:FREQ=YEARLY;BYMONTH=3;BYDAY=-1SU
END:DAYLIGHT
BEGIN:STANDARD
TZOFFSETFROM:+0200
TZOFFSETTO:+0100
TZNAME:CET
DTSTART:19701025T030000
RRULE:FREQ=YEARLY;BYMONTH=10;BYDAY=-1SU
END:STANDARD
END:VTIMEZONE
BEGIN:VEVENT
UID:2485226:Event:2828664
DTSTAMP:20260422T044425Z
SUMMARY:Sept pas, cette voie, c’est toi ! Biodanza et yoga : les cha
 kras dans tous ses états
DESCRIPTION:Sept pas, cette voie, c’est toi ! Biodanza et yoga: les 
 chakras dans tous ses états du 11 au 17 juin 2017, Stage de Biodanza 
 en Grèce – Corfou. Chaque pas me rapproche de moi, de toi, tout. Ch
 aque fois que j’ose ma voix, ma voie se trace naturellement. Quand j
 e suis moi, je m’ouvre à la vie. \nDu 11 au 17 juin 2017  \nYoga,
  Biodanza,  méditations. Accompagnants vacanciers bienvenus\nPrix: 3
 00€ / 320 CHF\nPour plus d'information appelez au : +41 78 686 12 96
  ou écrivez à ariane@biodanza.ch, Ariane Péclard-Sahli.\n\nPour plu
 s d'information, aller sur https://epanews.fr/events/sept-pas-cette-vo
 ie-c-est-toi-biodanza-et-yoga-les-chakras-dans
DTSTART;TZID=Europe/Paris:20170611T010000
DTEND;TZID=Europe/Paris:20170617T234500
CATEGORIES:grèce
LOCATION:Corfou
WEBSITE:http://www.ariane-yoga-biodanza.ch/fr
URL:http://www.ariane-yoga-biodanza.ch/fr
CONTACT:+41 78 686 12 96
ORGANIZER;CN="Ariane Péclard-Sahli":https://epanews.fr/profile/Ariane
 PeclardSahli
ATTACH;FMTTYPE="image/jpeg":http://storage.ning.com/topology/rest/1.0/
 file/get/1663665199?profile=original
ATTENDEE;ROLE=REQ-PARTICIPANT;PARTSTAT=ACCEPTED;RSVP=TRUE;CN="Ariane P
 éclard-Sahli":https://epanews.fr/profile/ArianePeclardSahli
END:VEVENT
END:VCALENDAR
