BEGIN:VCALENDAR
PRODID:NingEventWidget-v1
VERSION:2.0
METHOD:PUBLISH
BEGIN:VTIMEZONE
TZID:Europe/Paris
X-LIC-LOCATION:Europe/Paris
BEGIN:DAYLIGHT
TZOFFSETFROM:+0100
TZOFFSETTO:+0200
TZNAME:CEST
DTSTART:19700329T020000
RRULE:FREQ=YEARLY;BYMONTH=3;BYDAY=-1SU
END:DAYLIGHT
BEGIN:STANDARD
TZOFFSETFROM:+0200
TZOFFSETTO:+0100
TZNAME:CET
DTSTART:19701025T030000
RRULE:FREQ=YEARLY;BYMONTH=10;BYDAY=-1SU
END:STANDARD
END:VTIMEZONE
BEGIN:VEVENT
UID:2485226:Event:825070
DTSTAMP:20260422T024014Z
SUMMARY:Sensibilisation au Massage de Bien-ÃŠtre
DESCRIPTION:Â Â Â Â Â Â Â Â Â Â Â  Module de \"Sensibilisation au Mass
 age d'Accompagnement au Bien-Ãªtre\" avec JoÃ«l GIRAULT , formateur de
  l'Ecole ElÃ©menterreÂ  ( formation certifiante) Â  Â  Â  Â Â  duÂ  00
 1 au 06 JUILLET 2012objectifs:Â  acquÃ©rir au sein de la pratique, les
  gestes simples et naturels du Massage d'accompagnement au bien-Ãªtre 
 et proposer dÃ©tente et plaisir Ã  son entourage.ÃŠtre dans une qualit
 Ã© de prÃ©sence et d'Ã©coute dans la relation masseur/massÃ©.Ce module
  offre Ã©galement un temps de ressourcement et de relÃ¢chement dans un
  cadre sÃ©curisant.A qui s'adresse cette formation: Ce module de 6 jou
 rs, ouvert Ã  tous et sans engagement dans la suite de la formation s'
 adresse:- aux particuliers pour leur vie personnelle- aux professionne
 ls de la relation d'aide et du soin Ã  la personne.CoÃ»t pÃ©dagogique:
  390â‚¬Â Â Â Â Â  possibilitÃ©s de paiements Ã©chelonnÃ©s. Prise en ch
 arge dans le cadre de la formation professionnelle continue Â  Â Â Â Â
  Â Â  HÃ©bergement et repas Ã  la demandeÂ Â Â Â Â Â Â Â Â  + d'infosÂ
   sur www.elementerre-formations.fr \n\nPour plus d'information, aller
  sur https://epanews.fr/events/sensibilisation-au-massage-de-bien-tre
DTSTART;TZID=Europe/Paris:20120701T220000
DTEND;TZID=Europe/Paris:20120706T120000
CATEGORIES:11
LOCATION:LABECEDE-LAURAGAIS
WEBSITE:http://www.gite-stages-bien-etre.com
URL:http://www.gite-stages-bien-etre.com
CONTACT:0607792766
ORGANIZER;CN="GIRAULT JOEL":https://epanews.fr/profile/GIRAULTJOEL
ATTACH;FMTTYPE="image/jpeg":http://storage.ning.com/topology/rest/1.0/
 file/get/1662612830?profile=original
ATTENDEE;ROLE=REQ-PARTICIPANT;PARTSTAT=ACCEPTED;RSVP=TRUE;CN="GIRAULT 
 JOEL":https://epanews.fr/profile/GIRAULTJOEL
END:VEVENT
END:VCALENDAR
