BEGIN:VCALENDAR
PRODID:NingEventWidget-v1
VERSION:2.0
METHOD:PUBLISH
BEGIN:VTIMEZONE
TZID:Europe/Paris
X-LIC-LOCATION:Europe/Paris
BEGIN:DAYLIGHT
TZOFFSETFROM:+0100
TZOFFSETTO:+0200
TZNAME:CEST
DTSTART:19700329T020000
RRULE:FREQ=YEARLY;BYMONTH=3;BYDAY=-1SU
END:DAYLIGHT
BEGIN:STANDARD
TZOFFSETFROM:+0200
TZOFFSETTO:+0100
TZNAME:CET
DTSTART:19701025T030000
RRULE:FREQ=YEARLY;BYMONTH=10;BYDAY=-1SU
END:STANDARD
END:VTIMEZONE
BEGIN:VEVENT
UID:2485226:Event:2430650
DTSTAMP:20260421T202725Z
SUMMARY:seminaire tarot niveau 1-1ère partie : acquisition des 22 lam
 es majeures et pratique de tirages, par Veronique LB
DESCRIPTION:Inscription obligatoire auprès de Source du bonheur au 04
  11 75 16 85 ou 06 77 16 31 11 Participation 80 €   Atelier animé 
 par Véronique,  « Il me tient à cœur d'enseigner ce que je pratiq
 ue depuis une vingtaine d'années, allant de découverte en découvert
 e enrichissante. Toute quête spirituelle est sous tendue par des ouve
 rtures et des prises de conscience quotidienne. Ma formation initiale 
 de psychothérapeute (gestalt et transpersonnel) sous-tend mes pratiqu
 es thérapeutiques, par l'éthique et l'attention à la personne, en r
 espect de ses croyances, de son être profond et de sa liberté intér
 ieure surtout. »  Durant cette journée d’initiation, vous aurez ac
 quis les \"clés\" nécessaires pour capter, à travers vos tirages le
 s réponses possibles à vos questionnements, et vous comprendrez comm
 ent les cartes \"parlent\" et ce qu’elles ont à vous dire. Dans cet
  atelier, il sera abordé :  -les historiques du tarot, depuis le Die
 u Égyptien Thot Hermès Trismégiste, jusqu’aux archétypes de Yung
 . -les différents attributs et symboles des 22 lames majeurs du tarot
  de Marseille. -la symbolique pure de chaque lame, d’après Oswald W
 irth, et la pratique courante orale des tirages de tarot.  - les Lien
 s avec la Numérologie, Astrologie, Alchimie (symbolique des nombres d
 ’après la Kabbale et ses 22 lettres hébraïques, liens des planèt
 es ou des signes astrologiques avec les lames de tarot, profondeur de 
 la symbolique alchimique avec les 22 arcanes. -la Pratique de tirages 
 selon les questions des personnes, pratique du tirage simple en croix,
  nous interrogerons les cartes avec les questions : qui suis-je ? D’
 où je viens ? Où vais-je ? Ce que je suis consciemment, inconsciemme
 nt. -Le conseil de chaque carte. -Le jeu des 22 lames, en étudiant la
  question-réponse, d’une carte par rapport à l’autre .   Un chè
 que d'arrhes de 40 € est à verser pour valider votre inscription. L
 e formulaire d'inscription vous sera envoyé par mail\n\nPour plus d'i
 nformation, aller sur https://epanews.fr/events/seminaire-tarot-niveau
 -1-2-me-partie-acquisition-des-22-lames
DTSTART;TZID=Europe/Paris:20160116T103000
DTEND;TZID=Europe/Paris:20160116T180000
CATEGORIES:34
LOCATION:montpellier  centre
WEBSITE:http://www.sourcedubonheur.fr
URL:http://www.sourcedubonheur.fr
CONTACT:0411751685
ORGANIZER;CN=sb34:https://epanews.fr/profile/sb34
ATTACH;FMTTYPE="image/jpeg":http://storage.ning.com/topology/rest/1.0/
 file/get/1663457815?profile=original
ATTENDEE;ROLE=REQ-PARTICIPANT;PARTSTAT=ACCEPTED;RSVP=TRUE;CN=sb34:http
 s://epanews.fr/profile/sb34
END:VEVENT
END:VCALENDAR
