BEGIN:VCALENDAR
PRODID:NingEventWidget-v1
VERSION:2.0
METHOD:PUBLISH
BEGIN:VTIMEZONE
TZID:Europe/Paris
X-LIC-LOCATION:Europe/Paris
BEGIN:DAYLIGHT
TZOFFSETFROM:+0100
TZOFFSETTO:+0200
TZNAME:CEST
DTSTART:19700329T020000
RRULE:FREQ=YEARLY;BYMONTH=3;BYDAY=-1SU
END:DAYLIGHT
BEGIN:STANDARD
TZOFFSETFROM:+0200
TZOFFSETTO:+0100
TZNAME:CET
DTSTART:19701025T030000
RRULE:FREQ=YEARLY;BYMONTH=10;BYDAY=-1SU
END:STANDARD
END:VTIMEZONE
BEGIN:VEVENT
UID:2485226:Event:154266
DTSTAMP:20260422T045312Z
SUMMARY:SÃ©minaire pour la DignitÃ© Humaine
DESCRIPTION:Sommes nous Ã  la fin d'un monde ou au commencement d'une 
 nouvelle Ã©poque? Pouvons Ã©veiller les ÃŠtres de LumiÃ¨re que nous so
 mmes rÃ©ellement et retrouver notre DignitÃ© pour Å“uvrer ENSEMBLE pou
 r un avenir bon et plein de sens? Le Mouvement libre et indÃ©pendant d
 e la sauvegarde et du dÃ©veloppement de\nla dignitÃ© humaine est une i
 nitiative citoyenne, ouverte Ã  tous. Tarif 160 euros\n\nPour plus d'i
 nformation, aller sur https://epanews.fr/events/seminaire-pour-la-dign
 ite
DTSTART;TZID=Europe/Paris:20101204T090000
DTEND;TZID=Europe/Paris:20101205T170000
CATEGORIES:75
LOCATION:MAFEC
WEBSITE:http://www.triskell-international.com
URL:http://www.triskell-international.com
CONTACT:01 42 86 93 86
ORGANIZER:Association Triskell International
ATTACH;FMTTYPE="image/jpeg":http://storage.ning.com/topology/rest/1.0/
 file/get/1662365006?profile=original
ATTENDEE;ROLE=REQ-PARTICIPANT;PARTSTAT=ACCEPTED;RSVP=TRUE;CN="Marie-HÃ
 ©lÃ¨ne JOUDIOU":https://epanews.fr/profile/AssociationSacreToi
END:VEVENT
END:VCALENDAR
