BEGIN:VCALENDAR
PRODID:NingEventWidget-v1
VERSION:2.0
METHOD:PUBLISH
BEGIN:VTIMEZONE
TZID:Europe/Paris
X-LIC-LOCATION:Europe/Paris
BEGIN:DAYLIGHT
TZOFFSETFROM:+0100
TZOFFSETTO:+0200
TZNAME:CEST
DTSTART:19700329T020000
RRULE:FREQ=YEARLY;BYMONTH=3;BYDAY=-1SU
END:DAYLIGHT
BEGIN:STANDARD
TZOFFSETFROM:+0200
TZOFFSETTO:+0100
TZNAME:CET
DTSTART:19701025T030000
RRULE:FREQ=YEARLY;BYMONTH=10;BYDAY=-1SU
END:STANDARD
END:VTIMEZONE
BEGIN:VEVENT
UID:2485226:Event:2633624
DTSTAMP:20260422T094517Z
SUMMARY:seminaire intensif: Numérologie, Chiromancie & Astrologie, pa
 r Véronique LB
DESCRIPTION:Inscription obligatoire auprès de Source du bonheur au 04
  11 75 16 85 ou 06 77 16 31 11Participation 250 € les 3 journéesUn 
 chèque d'arrhes de 125 € est à verser pour valider votre inscripti
 on. - LA NUMEROLOGIE : LA SCIENCE DES NOMBRES DANS VOTRE DESTINEE ET 
 VOTRE KARMA : Cette étude passionnante vous plongera au cœur de votr
 e être profond, agissant comme miroir révélateur par la puissance d
 es nombres, mettant à jour la trame de votre destinée, ses buts et d
 esseins cachés- LA CHIROMANCIE-LIGNES DE LA MAIN : Durant cette journ
 ée vous explorerez toutes les lignes de vos deux mains, et très prog
 ressivement, par une méthode originale, vous tracerez sur papier les 
 lignes de vie, lignes de cœur, lignes de tête, lignes de destinée, 
 lignes d'intuition .... En apprenant toutes les particularités possib
 les pour chacune.- L’ASTROLOGIE ou COMMENT SE DECOUVRIR, SE CONNAITR
 E ET S’HARMONISER AU FLUX COSMIQUE : Votre Ciel de naissance est vot
 re mandala personnel, qui se dévoilera à vous, durant cette étude a
 strologique. Cette étude astrologique nous permettra de nous découvr
 ir, nous connaître et nous harmoniser au flux cosmique.\n\nPour plus 
 d'information, aller sur https://epanews.fr/events/seminaire-intensif-
 num-rologie-chiromancie-astrologie-par-v
DTSTART;TZID=Europe/Paris:20160704T103000
DTEND;TZID=Europe/Paris:20160706T180000
CATEGORIES:34
LOCATION:montpellier centre
WEBSITE:http://www.sourcedubonheur.fr
URL:http://www.sourcedubonheur.fr
CONTACT:0411751685
ORGANIZER;CN=sb34:https://epanews.fr/profile/sb34
ATTACH;FMTTYPE="image/jpeg":http://storage.ning.com/topology/rest/1.0/
 file/get/1663557687?profile=original
ATTENDEE;ROLE=REQ-PARTICIPANT;PARTSTAT=ACCEPTED;RSVP=TRUE;CN=sb34:http
 s://epanews.fr/profile/sb34
END:VEVENT
END:VCALENDAR
