BEGIN:VCALENDAR
PRODID:NingEventWidget-v1
VERSION:2.0
METHOD:PUBLISH
BEGIN:VTIMEZONE
TZID:Europe/Paris
X-LIC-LOCATION:Europe/Paris
BEGIN:DAYLIGHT
TZOFFSETFROM:+0100
TZOFFSETTO:+0200
TZNAME:CEST
DTSTART:19700329T020000
RRULE:FREQ=YEARLY;BYMONTH=3;BYDAY=-1SU
END:DAYLIGHT
BEGIN:STANDARD
TZOFFSETFROM:+0200
TZOFFSETTO:+0100
TZNAME:CET
DTSTART:19701025T030000
RRULE:FREQ=YEARLY;BYMONTH=10;BYDAY=-1SU
END:STANDARD
END:VTIMEZONE
BEGIN:VEVENT
UID:2485226:Event:2645609
DTSTAMP:20260422T022926Z
SUMMARY:Seminaire intensif : exercices de perceptions spirituelles - e
 tude et approche des dragons - Draconia
DESCRIPTION:Inscription obligatoire auprès de Source du bonheur au 04
  11 75 16 85 ou 06 77 16 31 11 Participation 200 € les 2 journées U
 n chèque d'arrhes de 100 € est à verser pour valider votre inscrip
 tion.   - EXERCICES DE PERCEPTIONS SPIRITUELLES : CLAIRVOYANCE, CLAIR
 AUDIENCE, CLAIR RESSENTI : Ces ateliers seront conçus comme une véri
 table Initiation afin de retrouver ces facultés extra-sensorielles pr
 ogressivement : - un exposé des différents canaux de perceptions ext
 ra-sensorielles et ouverture. - \"Capter\" par le clair ressenti les p
 résences invisibles, tests de perception vibratoire, -Le contact avec
  votre ange gardien, purification et clair ressenti, clair audience, c
 lairvoyance.....  - ETUDE ET APPROCHE DES DRAGONS - DRACONIA : Les fon
 dements de cet enseignement reposent sur les énergies naturelles et C
 osmiques présentes dans l'univers, vous procurant élévation sensibl
 e et spirituelle pour votre bien et celui de tous, et par respect et a
 mour des Dragons. Dans cet atelier, Véronique vous présentera : - Le
 s différents Dragons, archétypes de puissance, noblesse et très gra
 nde sagesse. - Invocation quotidienne des Dragons. - Rituel de charge 
 de la baguette de feu (s'en procurer une pour le cours, taille de votr
 e avant bras)...\n\nPour plus d'information, aller sur https://epanews
 .fr/events/seminaire-intensif-exercices-de-perceptions-spirituelles-et
 ude-et
DTSTART;TZID=Europe/Paris:20160707T103000
DTEND;TZID=Europe/Paris:20160708T180000
CATEGORIES:34
LOCATION:montpellier centre
WEBSITE:http://www.sourcedubonheur.fr
URL:http://www.sourcedubonheur.fr
CONTACT:0411751685
ORGANIZER;CN=sb34:https://epanews.fr/profile/sb34
ATTACH;FMTTYPE="image/jpeg":http://storage.ning.com/topology/rest/1.0/
 file/get/1663649327?profile=original
ATTENDEE;ROLE=REQ-PARTICIPANT;PARTSTAT=ACCEPTED;RSVP=TRUE;CN=sb34:http
 s://epanews.fr/profile/sb34
END:VEVENT
END:VCALENDAR
