BEGIN:VCALENDAR
PRODID:NingEventWidget-v1
VERSION:2.0
METHOD:PUBLISH
BEGIN:VTIMEZONE
TZID:Europe/Paris
X-LIC-LOCATION:Europe/Paris
BEGIN:DAYLIGHT
TZOFFSETFROM:+0100
TZOFFSETTO:+0200
TZNAME:CEST
DTSTART:19700329T020000
RRULE:FREQ=YEARLY;BYMONTH=3;BYDAY=-1SU
END:DAYLIGHT
BEGIN:STANDARD
TZOFFSETFROM:+0200
TZOFFSETTO:+0100
TZNAME:CET
DTSTART:19701025T030000
RRULE:FREQ=YEARLY;BYMONTH=10;BYDAY=-1SU
END:STANDARD
END:VTIMEZONE
BEGIN:VEVENT
UID:2485226:Event:2670700
DTSTAMP:20260421T232843Z
SUMMARY:SÃ©minaire intensif : AyurvÃ©da et astrologie vÃ©dique, par VÃ
 ©ronique LB
DESCRIPTION:Inscription obligatoire auprÃ¨s de Source du bonheur au 04
  11 75 16 85 ou 06 77 16 31 11 Participation 100 â‚¬Â  Un chÃ¨que d'ar
 rhes de 50 â‚¬ est Ã  verser pour valider votre inscription.Â   Dans c
 ette initiation, VÃ©ronique vous fait dÃ©couvrir lâ€™ayurvÃ©da, mÃ©dec
 ine traditionnelle de l'Inde, une tradition alliant, depuis plus de 5 
 000 ans, mÃ©decine et philosophieâ€¦  Vous apprendrez : - Ã  connaitre
  votre nature, la diÃ©tÃ©tique adaptÃ©e Ã  votre constitution, plantes
  ayurvÃ©diques dÃ©taillÃ©es pour chaque dosha, (Triphala ashwagandha b
 rahmi neem ...) - une dÃ©couverte de lâ€™astrologie vÃ©dique Nakshatra
  (ou signe astrologie vÃ©dique) d'aprÃ¨s votre date de naissance.\n\nP
 our plus d'information, aller sur https://epanews.fr/events/seminaire-
 intensif-ayurveda-et-astrologie-vedique-par-v-ronique
DTSTART;TZID=Europe/Paris:20160726T103000
DTEND;TZID=Europe/Paris:20160726T180000
CATEGORIES:34
LOCATION:montpellier centre
WEBSITE:http://www.sourcedubonheur.fr
URL:http://www.sourcedubonheur.fr
CONTACT:0411751685
ORGANIZER;CN=sb34:https://epanews.fr/profile/sb34
ATTACH;FMTTYPE="image/jpeg":http://storage.ning.com/topology/rest/1.0/
 file/get/1663580580?profile=original
ATTENDEE;ROLE=REQ-PARTICIPANT;PARTSTAT=ACCEPTED;RSVP=TRUE;CN=sb34:http
 s://epanews.fr/profile/sb34
END:VEVENT
END:VCALENDAR
