BEGIN:VCALENDAR
PRODID:NingEventWidget-v1
VERSION:2.0
METHOD:PUBLISH
BEGIN:VTIMEZONE
TZID:Europe/Paris
X-LIC-LOCATION:Europe/Paris
BEGIN:DAYLIGHT
TZOFFSETFROM:+0100
TZOFFSETTO:+0200
TZNAME:CEST
DTSTART:19700329T020000
RRULE:FREQ=YEARLY;BYMONTH=3;BYDAY=-1SU
END:DAYLIGHT
BEGIN:STANDARD
TZOFFSETFROM:+0200
TZOFFSETTO:+0100
TZNAME:CET
DTSTART:19701025T030000
RRULE:FREQ=YEARLY;BYMONTH=10;BYDAY=-1SU
END:STANDARD
END:VTIMEZONE
BEGIN:VEVENT
UID:2485226:Event:273406
DTSTAMP:20260420T111506Z
SUMMARY:Séminaire d'initiation à la Radiasthésie - Géobiologie  - 
 Bio - énergie 
DESCRIPTION:COMMENT APPRENDRE A SE PROTEGER ET A ELIMINER LES  NOCIVI
 TES SUR NOUS-MEMES ET DANS NOS LIEUX DE VIE \nMIEUX CONNAÎTRE LA GÉO
 BIOLOGIE. \nL'être humain vit dans un champ d'énergies cosmiques et 
 telluriques. Le bon équilibre de ces deux énergies détermine une bo
 nne santé. Les perturbations du sous-sol, tels que les courants d’e
 au, les failles etc. … ainsi que toutes les pollutions électriques,
  électromagnétique (lignes hautes tension, antennes relais, portable
 s …)  favorisent un déséquilibre qui engendre mal être et maladi
 es. La géobiologie nous aide à mieux réagir pour neutraliser les in
 fluences nocives qui perturbent nos organismes.\n \n But du séminai
 re : Stage pour débutants\n Apprendre les bases pour se protéger, 
 se nettoyer, se rééquilibrer soi même ainsi que son lieu de vie ou 
 de travail. L’enseignement est essentiellement pratique, tel que le 
 stagiaire puisse se débrouiller seul, en continuant les exercices qui
  lui auront été enseignés.\n Apprendre à se servir d'un pendule e
 t obtenir des résultats concrets. Apprendre à tester vos médicament
 s et votre nourriture pour votre santé. Prendre contact avec l’ante
 nne de Lécher. Savoir détecter les zones perturbées de votre logeme
 nt. Chercher des sources etc…\n\nPersonnes concernées :\nToutes pe
 rsonnes intéressées par l’aspect de la santé à travers l’habit
 at et plus particulièrement les personnes recevant dans leur cabinet 
 de travail ou à leur domicile ainsi que les amoureux du bien-être.\n
 Programme détaillé des deux jours et tarifs envoyé sur demande avec
  une adresse mail.\n\nPour plus d'information, aller sur https://epane
 ws.fr/events/seminaire-dinitiation-a-la
DTSTART;TZID=Europe/Paris:20110430T000000
DTEND;TZID=Europe/Paris:20110501T235900
CATEGORIES:94
LOCATION:Choisy le Roi
WEBSITE:
URL:
CONTACT:0670887978
ORGANIZER;CN="Carnets d'Eveil":https://epanews.fr/profile/CarnetsdEvei
 l
ATTACH;FMTTYPE="image/jpeg":http://storage.ning.com/topology/rest/1.0/
 file/get/1662410661?profile=original
ATTENDEE;ROLE=REQ-PARTICIPANT;PARTSTAT=ACCEPTED;RSVP=TRUE;CN="Carnets 
 d'Eveil":https://epanews.fr/profile/CarnetsdEveil
END:VEVENT
END:VCALENDAR
