BEGIN:VCALENDAR
PRODID:NingEventWidget-v1
VERSION:2.0
METHOD:PUBLISH
BEGIN:VTIMEZONE
TZID:Europe/Paris
X-LIC-LOCATION:Europe/Paris
BEGIN:DAYLIGHT
TZOFFSETFROM:+0100
TZOFFSETTO:+0200
TZNAME:CEST
DTSTART:19700329T020000
RRULE:FREQ=YEARLY;BYMONTH=3;BYDAY=-1SU
END:DAYLIGHT
BEGIN:STANDARD
TZOFFSETFROM:+0200
TZOFFSETTO:+0100
TZNAME:CET
DTSTART:19701025T030000
RRULE:FREQ=YEARLY;BYMONTH=10;BYDAY=-1SU
END:STANDARD
END:VTIMEZONE
BEGIN:VEVENT
UID:2485226:Event:114504
DTSTAMP:20260421T194032Z
SUMMARY:sÃ©minaire au PÃ©rou en dÃ©cembre
DESCRIPTION:DÃ©cembre sÃ©minaire au PÃ©rou, du 5 au 24 dÃ©cembre\n\ndu
  5 au 13 arrivÃ©e au centre , installation et diÃ¨te vÃ©gÃ©tale de 6 j
 ours\n14 au 19 post diÃ¨te avec ateliers : yoga, mÃ©ditation, connexio
 n chamanique, ateliers de dÃ©veloppement personnel.\n20 au 23 visite Ã
 ©co-touristique du parc Pacaya Samiria et de ses dauphins roses.\n24 r
 Ã©veillon de noÃ«l avec un groupe de musicien typique.\n\n--> Particip
 ation 1500 soles (500 euros)\n\nPour les personnes qui ne souhaitent p
 as faire une diÃ¨te vÃ©gÃ©tale\n\n14 au 19 jeune thÃ©rapeutique avec a
 teliers : yoga, mÃ©ditation, connexion chamanique, ateliers de dÃ©velo
 ppement personnel.\n22 au 23 idem visite du parc Pacaya Samiria.......
 .\n24 rÃ©veillon de noÃ«l.......\n\n--> Participation 900 soles (300 e
 uros)\n\nPour les personnes qui ne souhaitent faire que le rÃ©veillon 
 de noÃ«l avec nous.\n200 soles (60 euros) hÃ©bergement, repas et soirÃ
 ©e avec groupe typique\n\n\n\nsachawawa@yahoo.fr\n\nPour plus d'inform
 ation, aller sur https://epanews.fr/events/seminaire-au-perou-en-decem
 bre
DTSTART;TZID=Europe/Paris:20101205T000000
DTEND;TZID=Europe/Paris:20101205T235900
CATEGORIES:tous
LOCATION:ForÃªt Amazonnienne PÃ©rou
WEBSITE:http://www.esperanzadelaselva.fr
URL:http://www.esperanzadelaselva.fr
CONTACT:0051 42 79 72 70
ORGANIZER;CN="Sacha Wawa":https://epanews.fr/profile/SachaWawa
ATTACH;FMTTYPE="image/jpeg":http://storage.ning.com/topology/rest/1.0/
 file/get/1662337920?profile=original
ATTENDEE;ROLE=REQ-PARTICIPANT;PARTSTAT=ACCEPTED;RSVP=TRUE;CN="Sacha Wa
 wa":https://epanews.fr/profile/SachaWawa
END:VEVENT
END:VCALENDAR
