BEGIN:VCALENDAR
PRODID:NingEventWidget-v1
VERSION:2.0
METHOD:PUBLISH
BEGIN:VTIMEZONE
TZID:Europe/Paris
X-LIC-LOCATION:Europe/Paris
BEGIN:DAYLIGHT
TZOFFSETFROM:+0100
TZOFFSETTO:+0200
TZNAME:CEST
DTSTART:19700329T020000
RRULE:FREQ=YEARLY;BYMONTH=3;BYDAY=-1SU
END:DAYLIGHT
BEGIN:STANDARD
TZOFFSETFROM:+0200
TZOFFSETTO:+0100
TZNAME:CET
DTSTART:19701025T030000
RRULE:FREQ=YEARLY;BYMONTH=10;BYDAY=-1SU
END:STANDARD
END:VTIMEZONE
BEGIN:VEVENT
UID:2485226:Event:2943986
DTSTAMP:20260421T130731Z
SUMMARY:Semaine santé détox
DESCRIPTION:Venez profiter d’une semaine Détox régénérante pour 
 tout remettre à plat, parler à des experts, s’oxygéner, se nettoy
 er et s’en servir de tremplin vers un mieux-être.\n\n* Bilan de san
 té faite par une équipe complète de naturopathes\n\n* Contrôle jou
 rnalier de la pression artérielle et du glucose\n\n* Cure adaptée au
 x priorités définis par le bilan de santé\n\n* Balades en montagne 
 et reconnexion à la Nature\n\n* Alimentation vivante tous les jours e
 t atelier de « crusine »\n\n* Yoga et BrainGym\n\n* Un jour de jeûn
 e hydrique\n\n* QiGong avec Bernard Loquineau\n\n* Expression artistiq
 ue\n\n* Conférence sur la Nutrition\n\n* Concert de Charles Diot de b
 ols de cristal\n\n* Beaucoup de partages et de discussions\n\n\n\n* Un
  bilan sera fait à la fin du séjour par rapport aux objectifs initia
 ux définis en début de semaine.\n \nhttps://semainesante.wordpress.
 com/\n\n\n\nPour plus d'information, aller sur https://epanews.fr/even
 ts/semaine-sant-d-tox-1
DTSTART;TZID=Europe/Paris:20180603T090000
DTEND;TZID=Europe/Paris:20180610T000000
CATEGORIES:05
LOCATION:Névache
WEBSITE:https://semainesante.wordpress.com
URL:https://semainesante.wordpress.com
CONTACT:04 92 21 37 30
ORGANIZER:Patrick Martini
ATTACH;FMTTYPE="image/jpeg":http://storage.ning.com/topology/rest/1.0/
 file/get/1663729359?profile=original
ATTENDEE;ROLE=REQ-PARTICIPANT;PARTSTAT=ACCEPTED;RSVP=TRUE;CN="Fred A'K
 aHuna":https://epanews.fr/profile/FredAKaHuna
END:VEVENT
END:VCALENDAR
